BEGIN:VCALENDAR
VERSION:2.0
PRODID:-//Ultima Online - ECPv5.16.4.1//NONSGML v1.0//EN
CALSCALE:GREGORIAN
METHOD:PUBLISH
X-WR-CALNAME:Ultima Online
X-ORIGINAL-URL:https://uo.com
X-WR-CALDESC:Events for Ultima Online
BEGIN:VTIMEZONE
TZID:Europe/Berlin
BEGIN:DAYLIGHT
TZOFFSETFROM:+0100
TZOFFSETTO:+0200
TZNAME:CEST
DTSTART:20160327T010000
END:DAYLIGHT
BEGIN:STANDARD
TZOFFSETFROM:+0200
TZOFFSETTO:+0100
TZNAME:CET
DTSTART:20161030T010000
END:STANDARD
TZID:Asia/Tokyo
BEGIN:STANDARD
TZOFFSETFROM:+0900
TZOFFSETTO:+0900
TZNAME:JST
DTSTART:20160101T000000
END:STANDARD
END:VTIMEZONE
BEGIN:VEVENT
DTSTART;TZID=Europe/Berlin:20160702T203000
DTEND;TZID=Europe/Berlin:20160702T213000
DTSTAMP:20260423T055205
CREATED:20160630T095203Z
LAST-MODIFIED:20160630T115226Z
UID:10198-1467491400-1467495000@uo.com
SUMMARY:Drachenfels: Hubba the 4th | Hubba der Vierte
DESCRIPTION:Time: 8:30pm CEST (UTC+2).  Location: Castle Blackthorn Courtyard\, Britain\, Trammel.\nMain Event (RP): A HoF Mission – Lieutenant Gelbendil is in charge of a mission about a scary Bog Thing Family… \nZeit: 20:30 Uhr CEST (UTC+2). Ort: Schloss Blackthorn\, im Schlosshof\, Britain\, Trammel.\nHaupt Event (RP): Eine HoF Mission – Lieutenant Gelbendil leitet eine Mission die sich um eine furchteinflößende Bog Thing Familie dreht…
URL:https://uo.com/event/drachenfels-hubba-the-4th-hubba-der-vierte/
LOCATION:Drachenfels
CATEGORIES:EM Event
END:VEVENT
BEGIN:VEVENT
DTSTART;TZID=Asia/Tokyo:20160702T210000
DTEND;TZID=Asia/Tokyo:20160702T231500
DTSTAMP:20260423T055205
CREATED:20160609T163343Z
LAST-MODIFIED:20160609T163723Z
UID:10125-1467493200-1467501300@uo.com
SUMMARY:Yamato/Sakura/Mugen - The Star Festival
DESCRIPTION:We’ll be having the Star Festival night at the Imperial Bank in Zento city as follows! See you all there! \n7/1(Fri)\n・21:00-  Izumo\n・21:45-  Hokuto\n・22:30-  Mizuho \n7/2(Sat)\n・21:00-  Yamato\n・21:45-  Sakura\n・22:30-  Mugen
URL:https://uo.com/event/yamatosakuramugen-star-festival/
LOCATION:Zento Bank
CATEGORIES:EM Event
END:VEVENT
END:VCALENDAR