BEGIN:VCALENDAR
VERSION:2.0
PRODID:-//Ultima Online - ECPv5.16.4.1//NONSGML v1.0//EN
CALSCALE:GREGORIAN
METHOD:PUBLISH
X-WR-CALNAME:Ultima Online
X-ORIGINAL-URL:https://uo.com
X-WR-CALDESC:Events for Ultima Online
BEGIN:VTIMEZONE
TZID:America/New_York
BEGIN:DAYLIGHT
TZOFFSETFROM:-0500
TZOFFSETTO:-0400
TZNAME:EDT
DTSTART:20160313T070000
END:DAYLIGHT
BEGIN:STANDARD
TZOFFSETFROM:-0400
TZOFFSETTO:-0500
TZNAME:EST
DTSTART:20161106T060000
END:STANDARD
TZID:Europe/Berlin
BEGIN:DAYLIGHT
TZOFFSETFROM:+0100
TZOFFSETTO:+0200
TZNAME:CEST
DTSTART:20160327T010000
END:DAYLIGHT
BEGIN:STANDARD
TZOFFSETFROM:+0200
TZOFFSETTO:+0100
TZNAME:CET
DTSTART:20161030T010000
END:STANDARD
END:VTIMEZONE
BEGIN:VEVENT
DTSTART;TZID=America/New_York:20160708T010000
DTEND;TZID=America/New_York:20160725T230000
DTSTAMP:20260423T055434
CREATED:20160709T204141Z
LAST-MODIFIED:20160709T204141Z
UID:10272-1467939600-1469487600@uo.com
SUMMARY:Chessy Monthly fishing contest
DESCRIPTION:The fish of the month  is the Reaper Fish. All entries are to be placed into the mailbox at the HoC
URL:https://uo.com/event/chessy-monthly-fishing-contest-2/
LOCATION:Chesapeake
CATEGORIES:EM Event
END:VEVENT
BEGIN:VEVENT
DTSTART;TZID=America/New_York:20160711T200000
DTEND;TZID=America/New_York:20160711T210000
DTSTAMP:20260423T055434
CREATED:20160707T060723Z
LAST-MODIFIED:20160707T060723Z
UID:10245-1468267200-1468270800@uo.com
SUMMARY:Siege - 8pm East @ Britain Moongate's Cathedral of the Faithful - "Meet and Greet with Bennu"
DESCRIPTION:
URL:https://uo.com/event/siege-8pm-east-britain-moongates-cathedral-of-the-faithful-meet-and-greet-with-bennu/
CATEGORIES:EM Event
END:VEVENT
BEGIN:VEVENT
DTSTART;TZID=Europe/Berlin:20160711T203000
DTEND;TZID=Europe/Berlin:20160711T213000
DTSTAMP:20260423T055434
CREATED:20160630T120134Z
LAST-MODIFIED:20160630T120150Z
UID:10201-1468269000-1468272600@uo.com
SUMMARY:Drachenfels: Planting plants (II) | Pflanzen pflanzen (II)
DESCRIPTION:Time: 8:30pm CEST (UTC+2).  Location: Castle Blackthorn Courtyard\, Britain\, Trammel.\nMini Event (RP): A HoF Mission – Having fun while playing with our green thumbs! \nZeit: 20:30 Uhr CEST (UTC+2). Ort: Schloss Blackthorn\, im Schlosshof\, Britain\, Trammel.\nMini Event (RP): Eine HoF Mission – Spaß haben während wir mit unseren grünen Daumen spielen!
URL:https://uo.com/event/drachenfels-planting-plants-ii-pflanzen-pflanzen-ii/
LOCATION:Drachenfels
CATEGORIES:EM Event
END:VEVENT
END:VCALENDAR