BEGIN:VCALENDAR
VERSION:2.0
PRODID:-//Ultima Online - ECPv5.16.4.1//NONSGML v1.0//EN
CALSCALE:GREGORIAN
METHOD:PUBLISH
X-WR-CALNAME:Ultima Online
X-ORIGINAL-URL:https://uo.com
X-WR-CALDESC:Events for Ultima Online
BEGIN:VTIMEZONE
TZID:America/New_York
BEGIN:DAYLIGHT
TZOFFSETFROM:-0500
TZOFFSETTO:-0400
TZNAME:EDT
DTSTART:20160313T070000
END:DAYLIGHT
BEGIN:STANDARD
TZOFFSETFROM:-0400
TZOFFSETTO:-0500
TZNAME:EST
DTSTART:20161106T060000
END:STANDARD
TZID:America/Los_Angeles
BEGIN:DAYLIGHT
TZOFFSETFROM:-0800
TZOFFSETTO:-0700
TZNAME:PDT
DTSTART:20160313T100000
END:DAYLIGHT
BEGIN:STANDARD
TZOFFSETFROM:-0700
TZOFFSETTO:-0800
TZNAME:PST
DTSTART:20161106T090000
END:STANDARD
END:VTIMEZONE
BEGIN:VEVENT
DTSTART;TZID=America/New_York:20160708T010000
DTEND;TZID=America/New_York:20160725T230000
DTSTAMP:20260423T055515
CREATED:20160709T204141Z
LAST-MODIFIED:20160709T204141Z
UID:10272-1467939600-1469487600@uo.com
SUMMARY:Chessy Monthly fishing contest
DESCRIPTION:The fish of the month  is the Reaper Fish. All entries are to be placed into the mailbox at the HoC
URL:https://uo.com/event/chessy-monthly-fishing-contest-2/
LOCATION:Chesapeake
CATEGORIES:EM Event
END:VEVENT
BEGIN:VEVENT
DTSTART;TZID=America/Los_Angeles:20160713T190000
DTEND;TZID=America/Los_Angeles:20160713T200000
DTSTAMP:20260423T055515
CREATED:20160704T145609Z
LAST-MODIFIED:20160704T145609Z
UID:10224-1468436400-1468440000@uo.com
SUMMARY:Baja - The Vintner's Vintage
DESCRIPTION:Francis of Vesper needs your help to investigate another hideout of the Crimson Dagger\, located somewhere inside the Empath Abbey!
URL:https://uo.com/event/baja-the-vintners-vintage/
LOCATION:Meet At Counselor Hall
CATEGORIES:EM Event
END:VEVENT
BEGIN:VEVENT
DTSTART;TZID=America/Los_Angeles:20160713T190000
DTEND;TZID=America/Los_Angeles:20160713T200000
DTSTAMP:20260423T055515
CREATED:20160705T224159Z
LAST-MODIFIED:20160705T224809Z
UID:10235-1468436400-1468440000@uo.com
SUMMARY:Sonoma - Us Against Them Dungeon Crawl!
DESCRIPTION:Dungeon of the month: Blood Dungeon Ilshenar
URL:https://uo.com/event/sonoma-us-against-them-dungeon-crawl/
CATEGORIES:EM Event
END:VEVENT
END:VCALENDAR