BEGIN:VCALENDAR
VERSION:2.0
PRODID:-//Ultima Online - ECPv5.16.4.1//NONSGML v1.0//EN
CALSCALE:GREGORIAN
METHOD:PUBLISH
X-WR-CALNAME:Ultima Online
X-ORIGINAL-URL:https://uo.com
X-WR-CALDESC:Events for Ultima Online
BEGIN:VTIMEZONE
TZID:America/New_York
BEGIN:DAYLIGHT
TZOFFSETFROM:-0500
TZOFFSETTO:-0400
TZNAME:EDT
DTSTART:20160313T070000
END:DAYLIGHT
BEGIN:STANDARD
TZOFFSETFROM:-0400
TZOFFSETTO:-0500
TZNAME:EST
DTSTART:20161106T060000
END:STANDARD
END:VTIMEZONE
BEGIN:VEVENT
DTSTART;TZID=America/New_York:20160708T010000
DTEND;TZID=America/New_York:20160725T230000
DTSTAMP:20260423T055204
CREATED:20160709T204141Z
LAST-MODIFIED:20160709T204141Z
UID:10272-1467939600-1469487600@uo.com
SUMMARY:Chessy Monthly fishing contest
DESCRIPTION:The fish of the month  is the Reaper Fish. All entries are to be placed into the mailbox at the HoC
URL:https://uo.com/event/chessy-monthly-fishing-contest-2/
LOCATION:Chesapeake
CATEGORIES:EM Event
END:VEVENT
BEGIN:VEVENT
DTSTART;TZID=America/New_York:20160721T200000
DTEND;TZID=America/New_York:20160721T210000
DTSTAMP:20260423T055204
CREATED:20160702T160228Z
LAST-MODIFIED:20160702T160431Z
UID:10210-1469131200-1469134800@uo.com
SUMMARY:Legends - Guard Duty
DESCRIPTION:On Thursday\, July 21st\, at 8:00 PM EST\, report to Castle Blackthorn for guard duty.
URL:https://uo.com/event/legends-guard-duty-2/
LOCATION:Legends
CATEGORIES:EM Event
END:VEVENT
BEGIN:VEVENT
DTSTART;TZID=America/New_York:20160721T200000
DTEND;TZID=America/New_York:20160721T210000
DTSTAMP:20260423T055204
CREATED:20160707T060943Z
LAST-MODIFIED:20160707T060943Z
UID:10252-1469131200-1469134800@uo.com
SUMMARY:Atlantic - 8pm East @ Castle Blackthorn Courtyard
DESCRIPTION:
URL:https://uo.com/event/atlantic-8pm-east-castle-blackthorn-courtyard-10/
CATEGORIES:EM Event
END:VEVENT
END:VCALENDAR