BEGIN:VCALENDAR
VERSION:2.0
PRODID:-//Ultima Online - ECPv5.16.4.1//NONSGML v1.0//EN
CALSCALE:GREGORIAN
METHOD:PUBLISH
X-WR-CALNAME:Ultima Online
X-ORIGINAL-URL:https://uo.com
X-WR-CALDESC:Events for Ultima Online
BEGIN:VTIMEZONE
TZID:America/New_York
BEGIN:DAYLIGHT
TZOFFSETFROM:-0500
TZOFFSETTO:-0400
TZNAME:EDT
DTSTART:20160313T070000
END:DAYLIGHT
BEGIN:STANDARD
TZOFFSETFROM:-0400
TZOFFSETTO:-0500
TZNAME:EST
DTSTART:20161106T060000
END:STANDARD
TZID:America/Los_Angeles
BEGIN:DAYLIGHT
TZOFFSETFROM:-0800
TZOFFSETTO:-0700
TZNAME:PDT
DTSTART:20160313T100000
END:DAYLIGHT
BEGIN:STANDARD
TZOFFSETFROM:-0700
TZOFFSETTO:-0800
TZNAME:PST
DTSTART:20161106T090000
END:STANDARD
TZID:Asia/Tokyo
BEGIN:STANDARD
TZOFFSETFROM:+0900
TZOFFSETTO:+0900
TZNAME:JST
DTSTART:20160101T000000
END:STANDARD
END:VTIMEZONE
BEGIN:VEVENT
DTSTART;TZID=America/New_York:20160708T010000
DTEND;TZID=America/New_York:20160725T230000
DTSTAMP:20260423T073617
CREATED:20160709T204141Z
LAST-MODIFIED:20160709T204141Z
UID:10272-1467939600-1469487600@uo.com
SUMMARY:Chessy Monthly fishing contest
DESCRIPTION:The fish of the month  is the Reaper Fish. All entries are to be placed into the mailbox at the HoC
URL:https://uo.com/event/chessy-monthly-fishing-contest-2/
LOCATION:Chesapeake
CATEGORIES:EM Event
END:VEVENT
BEGIN:VEVENT
DTSTART;TZID=America/Los_Angeles:20160722T190000
DTEND;TZID=America/Los_Angeles:20160722T200000
DTSTAMP:20260423T073617
CREATED:20160716T020021Z
LAST-MODIFIED:20160716T020021Z
UID:10301-1469214000-1469217600@uo.com
SUMMARY:Baja - Governor's Meeting
DESCRIPTION:Please join King Blackthorn for July’s Governor meeting!
URL:https://uo.com/event/baja-governors-meeting-4/
LOCATION:Blackthorn Castle
CATEGORIES:EM Event
END:VEVENT
BEGIN:VEVENT
DTSTART;TZID=America/Los_Angeles:20160722T190000
DTEND;TZID=America/Los_Angeles:20160722T200000
DTSTAMP:20260423T073617
CREATED:20160719T043232Z
LAST-MODIFIED:20160719T043232Z
UID:10312-1469214000-1469217600@uo.com
SUMMARY:Origin ~ Have Gear Will Travel: Dr. Mono's Tonic *FELUCCA*
DESCRIPTION:
URL:https://uo.com/event/origin-have-gear-will-travel-dr-monos-tonic-felucca/
LOCATION:Luna Stables (meet at)
CATEGORIES:EM Event
END:VEVENT
BEGIN:VEVENT
DTSTART;TZID=Asia/Tokyo:20160722T220000
DTEND;TZID=Asia/Tokyo:20160722T220000
DTSTAMP:20260423T073617
CREATED:20160609T170503Z
LAST-MODIFIED:20160719T151440Z
UID:10134-1469224800-1469224800@uo.com
SUMMARY:Mizuho - The Launching Ceremony
DESCRIPTION:Meet Tamy the Royal Guard at the ceremony site near the dock of Britain.
URL:https://uo.com/event/mizuho-mini-event/
LOCATION:Britain dock
CATEGORIES:EM Event
END:VEVENT
BEGIN:VEVENT
DTSTART;TZID=Asia/Tokyo:20160722T220000
DTEND;TZID=Asia/Tokyo:20160722T220000
DTSTAMP:20260423T073617
CREATED:20160623T092722Z
LAST-MODIFIED:20160623T092730Z
UID:10182-1469224800-1469224800@uo.com
SUMMARY:Asuka-Mini Event
DESCRIPTION:TBD
URL:https://uo.com/event/asuka-mini-event/
LOCATION:Asuka
CATEGORIES:EM Event
END:VEVENT
BEGIN:VEVENT
DTSTART;TZID=America/New_York:20160722T220000
DTEND;TZID=America/New_York:20160722T220000
DTSTAMP:20260423T073617
CREATED:20160717T091521Z
LAST-MODIFIED:20160717T091521Z
UID:10302-1469224800-1469224800@uo.com
SUMMARY:Izumo – Roland’s war
DESCRIPTION:TBD
URL:https://uo.com/event/izumo-rolands-war/
CATEGORIES:EM Event
END:VEVENT
END:VCALENDAR