BEGIN:VCALENDAR
VERSION:2.0
PRODID:-//Ultima Online - ECPv5.16.4.1//NONSGML v1.0//EN
CALSCALE:GREGORIAN
METHOD:PUBLISH
X-WR-CALNAME:Ultima Online
X-ORIGINAL-URL:https://uo.com
X-WR-CALDESC:Events for Ultima Online
BEGIN:VTIMEZONE
TZID:America/New_York
BEGIN:DAYLIGHT
TZOFFSETFROM:-0500
TZOFFSETTO:-0400
TZNAME:EDT
DTSTART:20160313T070000
END:DAYLIGHT
BEGIN:STANDARD
TZOFFSETFROM:-0400
TZOFFSETTO:-0500
TZNAME:EST
DTSTART:20161106T060000
END:STANDARD
TZID:Asia/Seoul
BEGIN:STANDARD
TZOFFSETFROM:+0900
TZOFFSETTO:+0900
TZNAME:KST
DTSTART:20160101T000000
END:STANDARD
TZID:Asia/Tokyo
BEGIN:STANDARD
TZOFFSETFROM:+0900
TZOFFSETTO:+0900
TZNAME:JST
DTSTART:20160101T000000
END:STANDARD
END:VTIMEZONE
BEGIN:VEVENT
DTSTART;TZID=America/New_York:20160708T010000
DTEND;TZID=America/New_York:20160725T230000
DTSTAMP:20260423T055337
CREATED:20160709T204141Z
LAST-MODIFIED:20160709T204141Z
UID:10272-1467939600-1469487600@uo.com
SUMMARY:Chessy Monthly fishing contest
DESCRIPTION:The fish of the month  is the Reaper Fish. All entries are to be placed into the mailbox at the HoC
URL:https://uo.com/event/chessy-monthly-fishing-contest-2/
LOCATION:Chesapeake
CATEGORIES:EM Event
END:VEVENT
BEGIN:VEVENT
DTSTART;TZID=Asia/Seoul:20160723T200000
DTEND;TZID=Asia/Seoul:20160723T210000
DTSTAMP:20260423T055337
CREATED:20160708T132945Z
LAST-MODIFIED:20160708T132945Z
UID:10262-1469304000-1469307600@uo.com
SUMMARY:Arirang - Maze Runner
DESCRIPTION:Join the maze runner and be the winner to make your name remembered! \nMaze runner event is most simple but give you lots of fun. Name of three winners who pass the maze will be engraved with speciel shield and recognized by citizens of Britannia. \nMeeting Place: Britain EM Hall\nTime and Date: 2016/07/23 Saturday 20:00 KST (07:00 EST)
URL:https://uo.com/event/arirang-maze-runner/
LOCATION:Arirang
CATEGORIES:EM Event
END:VEVENT
BEGIN:VEVENT
DTSTART;TZID=Asia/Tokyo:20160723T220000
DTEND;TZID=Asia/Tokyo:20160723T220000
DTSTAMP:20260423T055338
CREATED:20160609T164215Z
LAST-MODIFIED:20160718T093612Z
UID:10130-1469311200-1469311200@uo.com
SUMMARY:Yamato - "The Devotion of Sweeper X"
DESCRIPTION:Sweeper-X\, who was suspicious as a former leader of the Vigilante of Silver Serpent\, appeared at the Royal Zoo in Moonglow to clean up and to investigate the background of illegally dumped wastes including blackrock. \nSweeper-X and players finally found a hole which was a loading dock of blackrock infected animals. \nThis time\, players would be asked to sneak into the hole. Be prepared to fight with the bunch of blackrock infected creatures! \n°˖✧◝(⁰▿⁰)◜✧˖° \nMeet Sweeper-X at the Royal Zoo of Moonglow. A gate will be also prepared from Nujelm EM Hall.
URL:https://uo.com/event/yamato-the-devotion-of-sweeper-x/
LOCATION:The Royal Zoo of Moonglow
CATEGORIES:EM Event
END:VEVENT
BEGIN:VEVENT
DTSTART;TZID=Asia/Tokyo:20160723T220000
DTEND;TZID=Asia/Tokyo:20160723T220000
DTSTAMP:20260423T055338
CREATED:20160622T145112Z
LAST-MODIFIED:20160622T145112Z
UID:10170-1469311200-1469311200@uo.com
SUMMARY:Wakoku – The Council Meeting
DESCRIPTION:Location : Castle Blackthorn
URL:https://uo.com/event/wakoku-the-council-meeting-8/
LOCATION:Wakoku
CATEGORIES:EM Event
END:VEVENT
END:VCALENDAR