BEGIN:VCALENDAR
VERSION:2.0
PRODID:-//Ultima Online - ECPv5.16.4.1//NONSGML v1.0//EN
CALSCALE:GREGORIAN
METHOD:PUBLISH
X-WR-CALNAME:Ultima Online
X-ORIGINAL-URL:https://uo.com
X-WR-CALDESC:Events for Ultima Online
BEGIN:VTIMEZONE
TZID:America/New_York
BEGIN:DAYLIGHT
TZOFFSETFROM:-0500
TZOFFSETTO:-0400
TZNAME:EDT
DTSTART:20160313T070000
END:DAYLIGHT
BEGIN:STANDARD
TZOFFSETFROM:-0400
TZOFFSETTO:-0500
TZNAME:EST
DTSTART:20161106T060000
END:STANDARD
TZID:America/Chicago
BEGIN:DAYLIGHT
TZOFFSETFROM:-0600
TZOFFSETTO:-0500
TZNAME:CDT
DTSTART:20160313T080000
END:DAYLIGHT
BEGIN:STANDARD
TZOFFSETFROM:-0500
TZOFFSETTO:-0600
TZNAME:CST
DTSTART:20161106T070000
END:STANDARD
TZID:America/Los_Angeles
BEGIN:DAYLIGHT
TZOFFSETFROM:-0800
TZOFFSETTO:-0700
TZNAME:PDT
DTSTART:20160313T100000
END:DAYLIGHT
BEGIN:STANDARD
TZOFFSETFROM:-0700
TZOFFSETTO:-0800
TZNAME:PST
DTSTART:20161106T090000
END:STANDARD
END:VTIMEZONE
BEGIN:VEVENT
DTSTART;TZID=America/New_York:20160708T010000
DTEND;TZID=America/New_York:20160725T230000
DTSTAMP:20260423T055435
CREATED:20160709T204141Z
LAST-MODIFIED:20160709T204141Z
UID:10272-1467939600-1469487600@uo.com
SUMMARY:Chessy Monthly fishing contest
DESCRIPTION:The fish of the month  is the Reaper Fish. All entries are to be placed into the mailbox at the HoC
URL:https://uo.com/event/chessy-monthly-fishing-contest-2/
LOCATION:Chesapeake
CATEGORIES:EM Event
END:VEVENT
BEGIN:VEVENT
DTSTART;TZID=America/Chicago:20160725T190000
DTEND;TZID=America/Chicago:20160725T190000
DTSTAMP:20260423T055435
CREATED:20160704T134749Z
LAST-MODIFIED:20160704T134749Z
UID:10221-1469473200-1469473200@uo.com
SUMMARY:Great Lakes - Royal Council
DESCRIPTION:This is the thirty-seventh meeting of the Royal Council. Meet in the Council Room of Castle Blackthorn.
URL:https://uo.com/event/great-lakes-royal-council-9/
LOCATION:Great Lakes – Castle Blackthorn
CATEGORIES:EM Event
END:VEVENT
BEGIN:VEVENT
DTSTART;TZID=America/Los_Angeles:20160725T190000
DTEND;TZID=America/Los_Angeles:20160725T200000
DTSTAMP:20260423T055435
CREATED:20160705T224945Z
LAST-MODIFIED:20160705T224945Z
UID:10242-1469473200-1469476800@uo.com
SUMMARY:Napa Valley - What does the rock say?
DESCRIPTION:
URL:https://uo.com/event/napa-valley-what-does-the-rock-say/
LOCATION:Blackthorn’s Castle Courtyard
CATEGORIES:EM Event
END:VEVENT
BEGIN:VEVENT
DTSTART;TZID=America/New_York:20160725T200000
DTEND;TZID=America/New_York:20160725T210000
DTSTAMP:20260423T055435
CREATED:20160707T060803Z
LAST-MODIFIED:20160707T060803Z
UID:10246-1469476800-1469480400@uo.com
SUMMARY:Siege - 8pm East @ Britain Moongate's Cathedral of the Faithful
DESCRIPTION:
URL:https://uo.com/event/siege-8pm-east-britain-moongates-cathedral-of-the-faithful/
CATEGORIES:EM Event
END:VEVENT
END:VCALENDAR