BEGIN:VCALENDAR
VERSION:2.0
PRODID:-//Ultima Online - ECPv5.16.4.1//NONSGML v1.0//EN
CALSCALE:GREGORIAN
METHOD:PUBLISH
X-WR-CALNAME:Ultima Online
X-ORIGINAL-URL:https://uo.com
X-WR-CALDESC:Events for Ultima Online
BEGIN:VTIMEZONE
TZID:America/Los_Angeles
BEGIN:DAYLIGHT
TZOFFSETFROM:-0800
TZOFFSETTO:-0700
TZNAME:PDT
DTSTART:20160313T100000
END:DAYLIGHT
BEGIN:STANDARD
TZOFFSETFROM:-0700
TZOFFSETTO:-0800
TZNAME:PST
DTSTART:20161106T090000
END:STANDARD
TZID:America/New_York
BEGIN:DAYLIGHT
TZOFFSETFROM:-0500
TZOFFSETTO:-0400
TZNAME:EDT
DTSTART:20160313T070000
END:DAYLIGHT
BEGIN:STANDARD
TZOFFSETFROM:-0400
TZOFFSETTO:-0500
TZNAME:EST
DTSTART:20161106T060000
END:STANDARD
TZID:America/Chicago
BEGIN:DAYLIGHT
TZOFFSETFROM:-0600
TZOFFSETTO:-0500
TZNAME:CDT
DTSTART:20160313T080000
END:DAYLIGHT
BEGIN:STANDARD
TZOFFSETFROM:-0500
TZOFFSETTO:-0600
TZNAME:CST
DTSTART:20161106T070000
END:STANDARD
TZID:Europe/Berlin
BEGIN:DAYLIGHT
TZOFFSETFROM:+0100
TZOFFSETTO:+0200
TZNAME:CEST
DTSTART:20160327T010000
END:DAYLIGHT
BEGIN:STANDARD
TZOFFSETFROM:+0200
TZOFFSETTO:+0100
TZNAME:CET
DTSTART:20161030T010000
END:STANDARD
END:VTIMEZONE
BEGIN:VEVENT
DTSTART;TZID=America/Los_Angeles:20160726T190000
DTEND;TZID=America/Los_Angeles:20160726T200000
DTSTAMP:20260423T055434
CREATED:20160721T034505Z
LAST-MODIFIED:20160721T034505Z
UID:10317-1469559600-1469563200@uo.com
SUMMARY:Origin ~ Fuddy Wuddy Tale VII: Beach parrrty!
DESCRIPTION:
URL:https://uo.com/event/origin-fuddy-wuddy-tale-vii-beach-parrrty/
LOCATION:Luna Stables (meet at)
CATEGORIES:EM Event
END:VEVENT
BEGIN:VEVENT
DTSTART;TZID=America/New_York:20160726T200000
DTEND;TZID=America/New_York:20160726T210000
DTSTAMP:20260423T055434
CREATED:20160702T160532Z
LAST-MODIFIED:20160702T160532Z
UID:10211-1469563200-1469566800@uo.com
SUMMARY:Legends - Governor Meeting
DESCRIPTION:On Tuesday\, July 26th at 8:00 PM EST\, Lord Blackthorn shall conduct a council meeting at Castle Blackthorn.
URL:https://uo.com/event/legends-governor-meeting-4/
LOCATION:Legends
CATEGORIES:EM Event
END:VEVENT
BEGIN:VEVENT
DTSTART;TZID=America/Chicago:20160726T200000
DTEND;TZID=America/Chicago:20160726T200000
DTSTAMP:20260423T055434
CREATED:20160704T134531Z
LAST-MODIFIED:20160719T033020Z
UID:10220-1469563200-1469563200@uo.com
SUMMARY:Great Lakes - Royal Spies & Royal Guard
DESCRIPTION:Advancement Ceremony at Castle Blackthorn
URL:https://uo.com/event/great-lakes-royal-spies-royal-guard-2/
LOCATION:Great Lakes – Castle Blackthorn
CATEGORIES:EM Event
END:VEVENT
BEGIN:VEVENT
DTSTART;TZID=Europe/Berlin:20160726T203000
DTEND;TZID=Europe/Berlin:20160726T213000
DTSTAMP:20260423T055434
CREATED:20160719T151122Z
LAST-MODIFIED:20160719T153514Z
UID:10314-1469565000-1469568600@uo.com
SUMMARY:Drachenfels: HoF Ceremony | HoF Zeremonie
DESCRIPTION:Time: 8:30pm CEST (UTC+2).  Location: Castle Blackthorn\, Britain\, Trammel.\nThe special HoF ceremony will be held tonight to honor our dedicated players. See this list to see the six players which qualified. If your name is on that list and you can’t make it this evening\, e-mail me immediately to get a new date with me! \nZeit: 20:30 Uhr CEST (UTC+2). Ort: Schloss Blackthorn\, Britain\, Trammel.\nDie spezielle HoF Zeremonie wird heute Abend stattfinden. Schaut euch diese Liste an um zu sehen wer sich dafür qualifiziert hat. Wenn euer Name auf dieser Liste ist und ihr an diesem Abend nicht kommen könnt\, e-mailt mir sofort für ein neues Datum mit mir!
URL:https://uo.com/event/drachenfels-hof-ceremony-hof-zeremonie/
LOCATION:Drachenfels
CATEGORIES:EM Event
END:VEVENT
END:VCALENDAR