BEGIN:VCALENDAR
VERSION:2.0
PRODID:-//Ultima Online - ECPv5.16.4.1//NONSGML v1.0//EN
CALSCALE:GREGORIAN
METHOD:PUBLISH
X-WR-CALNAME:Ultima Online
X-ORIGINAL-URL:https://uo.com
X-WR-CALDESC:Events for Ultima Online
BEGIN:VTIMEZONE
TZID:America/Los_Angeles
BEGIN:DAYLIGHT
TZOFFSETFROM:-0800
TZOFFSETTO:-0700
TZNAME:PDT
DTSTART:20160313T100000
END:DAYLIGHT
BEGIN:STANDARD
TZOFFSETFROM:-0700
TZOFFSETTO:-0800
TZNAME:PST
DTSTART:20161106T090000
END:STANDARD
END:VTIMEZONE
BEGIN:VEVENT
DTSTART;TZID=America/Los_Angeles:20160727T190000
DTEND;TZID=America/Los_Angeles:20160727T200000
DTSTAMP:20260423T055516
CREATED:20160705T224323Z
LAST-MODIFIED:20160705T224712Z
UID:10237-1469646000-1469649600@uo.com
SUMMARY:Sonoma - "We are One"
DESCRIPTION:Things get deadly as the guard discovers the cause of the great invasion
URL:https://uo.com/event/sonoma-we-are-one/
CATEGORIES:EM Event
END:VEVENT
BEGIN:VEVENT
DTSTART;TZID=America/Los_Angeles:20160727T190000
DTEND;TZID=America/Los_Angeles:20160727T200000
DTSTAMP:20260423T055516
CREATED:20160716T015839Z
LAST-MODIFIED:20160716T015839Z
UID:10300-1469646000-1469649600@uo.com
SUMMARY:Baja - Trinsic's Secrets
DESCRIPTION:Francis of Vesper needs your help with investigating a Crimson Dagger hideout in Trinsic!
URL:https://uo.com/event/baja-trinsics-secrets/
LOCATION:Meet At Counselor Hall
CATEGORIES:EM Event
END:VEVENT
END:VCALENDAR