BEGIN:VCALENDAR
VERSION:2.0
PRODID:-//Ultima Online - ECPv5.16.4.1//NONSGML v1.0//EN
CALSCALE:GREGORIAN
METHOD:PUBLISH
X-WR-CALNAME:Ultima Online
X-ORIGINAL-URL:https://uo.com
X-WR-CALDESC:Events for Ultima Online
BEGIN:VTIMEZONE
TZID:America/New_York
BEGIN:DAYLIGHT
TZOFFSETFROM:-0500
TZOFFSETTO:-0400
TZNAME:EDT
DTSTART:20160313T070000
END:DAYLIGHT
BEGIN:STANDARD
TZOFFSETFROM:-0400
TZOFFSETTO:-0500
TZNAME:EST
DTSTART:20161106T060000
END:STANDARD
TZID:Asia/Tokyo
BEGIN:STANDARD
TZOFFSETFROM:+0900
TZOFFSETTO:+0900
TZNAME:JST
DTSTART:20160101T000000
END:STANDARD
END:VTIMEZONE
BEGIN:VEVENT
DTSTART;TZID=America/New_York:20160729T190000
DTEND;TZID=America/New_York:20160729T210000
DTSTAMP:20260423T055212
CREATED:20160717T201554Z
LAST-MODIFIED:20161008T221628Z
UID:10305-1469818800-1469826000@uo.com
SUMMARY:Catskills - The Forgotten
DESCRIPTION:Commander Brodgar is pushing ahead with Serpents Hold improvements and the reinstatement of the RBG
URL:https://uo.com/event/the-forgotten-catskills/
CATEGORIES:EM Event
END:VEVENT
BEGIN:VEVENT
DTSTART;TZID=America/New_York:20160729T200000
DTEND;TZID=America/New_York:20160729T210000
DTSTAMP:20260423T055212
CREATED:20160711T174514Z
LAST-MODIFIED:20160711T174514Z
UID:10276-1469822400-1469826000@uo.com
SUMMARY:**Lake Superior** 7/29/16 8pm EST The Museum of Mystery
DESCRIPTION:Come Join DJ Wise in the Building of the New Museum. Meet at the Em hall gate will be provided at Luna bank at 8pm EST!!
URL:https://uo.com/event/lake-superior-72916-8pm-est-the-museum-of-mystery/
CATEGORIES:EM Event
END:VEVENT
BEGIN:VEVENT
DTSTART;TZID=Asia/Tokyo:20160729T220000
DTEND;TZID=Asia/Tokyo:20160729T220000
DTSTAMP:20260423T055212
CREATED:20160609T170708Z
LAST-MODIFIED:20160609T170708Z
UID:10136-1469829600-1469829600@uo.com
SUMMARY:Mizuho - The Council Meeting with the King
DESCRIPTION:The King invites all Governors and Citizens to the Council Meeting.
URL:https://uo.com/event/mizuho-the-council-meeting-with-the-king-2/
LOCATION:Blackthorn Castle
CATEGORIES:EM Event
END:VEVENT
BEGIN:VEVENT
DTSTART;TZID=America/New_York:20160729T220000
DTEND;TZID=America/New_York:20160729T220000
DTSTAMP:20260423T055212
CREATED:20160610T113320Z
LAST-MODIFIED:20160610T113351Z
UID:10148-1469829600-1469829600@uo.com
SUMMARY:Izumo – The Council Meeting with the King
DESCRIPTION:The King invites all Governors and Citizens to the Council Meeting.\n*Please note this meeting requires everyone is “in-character”\, and thus roleplay is expected of all who attend.
URL:https://uo.com/event/izumo-the-council-meeting-with-the-king-3/
CATEGORIES:EM Event
END:VEVENT
END:VCALENDAR