BEGIN:VCALENDAR
VERSION:2.0
PRODID:-//Ultima Online - ECPv5.16.4.1//NONSGML v1.0//EN
CALSCALE:GREGORIAN
METHOD:PUBLISH
X-WR-CALNAME:Ultima Online
X-ORIGINAL-URL:https://uo.com
X-WR-CALDESC:Events for Ultima Online
BEGIN:VTIMEZONE
TZID:America/New_York
BEGIN:DAYLIGHT
TZOFFSETFROM:-0500
TZOFFSETTO:-0400
TZNAME:EDT
DTSTART:20160313T070000
END:DAYLIGHT
BEGIN:STANDARD
TZOFFSETFROM:-0400
TZOFFSETTO:-0500
TZNAME:EST
DTSTART:20161106T060000
END:STANDARD
TZID:America/Chicago
BEGIN:DAYLIGHT
TZOFFSETFROM:-0600
TZOFFSETTO:-0500
TZNAME:CDT
DTSTART:20160313T080000
END:DAYLIGHT
BEGIN:STANDARD
TZOFFSETFROM:-0500
TZOFFSETTO:-0600
TZNAME:CST
DTSTART:20161106T070000
END:STANDARD
TZID:Asia/Seoul
BEGIN:STANDARD
TZOFFSETFROM:+0900
TZOFFSETTO:+0900
TZNAME:KST
DTSTART:20160101T000000
END:STANDARD
TZID:Asia/Tokyo
BEGIN:STANDARD
TZOFFSETFROM:+0900
TZOFFSETTO:+0900
TZNAME:JST
DTSTART:20160101T000000
END:STANDARD
END:VTIMEZONE
BEGIN:VEVENT
DTSTART;TZID=America/New_York:20160730T000000
DTEND;TZID=America/New_York:20160730T130000
DTSTAMP:20260423T055210
CREATED:20160702T064652Z
LAST-MODIFIED:20160722T163442Z
UID:10207-1469836800-1469883600@uo.com
SUMMARY:Lake Austin - The Swamps of Trinsic
DESCRIPTION:Lake Austin \nTime: 11am CST (12 noon EST) \nLocation: Britain Hall
URL:https://uo.com/event/lake-austin-the-sky-and-the-blue-ones/
CATEGORIES:EM Event
END:VEVENT
BEGIN:VEVENT
DTSTART;TZID=America/New_York:20160730T200000
DTEND;TZID=America/New_York:20160730T220000
DTSTAMP:20260423T055210
CREATED:20160702T162204Z
LAST-MODIFIED:20160702T162204Z
UID:10213-1469908800-1469916000@uo.com
SUMMARY:Legends - The Tamer's Tourney
DESCRIPTION:On Saturday\, July 30th\, EM Erebus will be hosting a Tamer’s Tourney featuring Greater Dragons at the New Haven Arena.
URL:https://uo.com/event/legends-the-tamers-tourney/
LOCATION:Legends
CATEGORIES:EM Event
END:VEVENT
BEGIN:VEVENT
DTSTART;TZID=America/Chicago:20160730T200000
DTEND;TZID=America/Chicago:20160730T200000
DTSTAMP:20260423T055210
CREATED:20160704T135002Z
LAST-MODIFIED:20160704T135002Z
UID:10223-1469908800-1469908800@uo.com
SUMMARY:Great Lakes - Sizzlin' Summer Beach Party!
DESCRIPTION:We all deserve some fun in the sun!
URL:https://uo.com/event/great-lakes-sizzlin-summer-beach-party/
LOCATION:Great Lakes – Counselor Hall
CATEGORIES:EM Event
END:VEVENT
BEGIN:VEVENT
DTSTART;TZID=Asia/Seoul:20160730T200000
DTEND;TZID=Asia/Seoul:20160730T210000
DTSTAMP:20260423T055210
CREATED:20160708T133224Z
LAST-MODIFIED:20160708T133224Z
UID:10270-1469908800-1469912400@uo.com
SUMMARY:Arirang - Reassemblage
DESCRIPTION:Konan the Journalist found a mysterious golem nobody ever found. And he stepped into mysterious moongate that golem created its power. The landscape lied in front of his eyes were something he did not expected. Will he able to deliver this news safely to Britannia? Your help will be needed to him to deliver this news! \nDate and Time: July 30th 2016 Saturday 20:00 KST (07:00 EST)\nMeeting Place: Britain EM Hall
URL:https://uo.com/event/arirang-reassemblage/
LOCATION:Arirang
CATEGORIES:EM Event
END:VEVENT
BEGIN:VEVENT
DTSTART;TZID=Asia/Tokyo:20160730T220000
DTEND;TZID=Asia/Tokyo:20160730T220000
DTSTAMP:20260423T055210
CREATED:20160622T145409Z
LAST-MODIFIED:20160622T145409Z
UID:10172-1469916000-1469916000@uo.com
SUMMARY:Wakoku - Mini Event
DESCRIPTION:To Be Confirmed.
URL:https://uo.com/event/wakoku-mini-event/
LOCATION:Wakoku
CATEGORIES:EM Event
END:VEVENT
END:VCALENDAR