BEGIN:VCALENDAR
VERSION:2.0
PRODID:-//Ultima Online - ECPv5.16.4.1//NONSGML v1.0//EN
CALSCALE:GREGORIAN
METHOD:PUBLISH
X-WR-CALNAME:Ultima Online
X-ORIGINAL-URL:https://uo.com
X-WR-CALDESC:Events for Ultima Online
BEGIN:VTIMEZONE
TZID:America/Los_Angeles
BEGIN:DAYLIGHT
TZOFFSETFROM:-0800
TZOFFSETTO:-0700
TZNAME:PDT
DTSTART:20160313T100000
END:DAYLIGHT
BEGIN:STANDARD
TZOFFSETFROM:-0700
TZOFFSETTO:-0800
TZNAME:PST
DTSTART:20161106T090000
END:STANDARD
TZID:America/New_York
BEGIN:DAYLIGHT
TZOFFSETFROM:-0500
TZOFFSETTO:-0400
TZNAME:EDT
DTSTART:20160313T070000
END:DAYLIGHT
BEGIN:STANDARD
TZOFFSETFROM:-0400
TZOFFSETTO:-0500
TZNAME:EST
DTSTART:20161106T060000
END:STANDARD
TZID:Asia/Tokyo
BEGIN:STANDARD
TZOFFSETFROM:+0900
TZOFFSETTO:+0900
TZNAME:JST
DTSTART:20160101T000000
END:STANDARD
END:VTIMEZONE
BEGIN:VEVENT
DTSTART;TZID=America/Los_Angeles:20160731T180000
DTEND;TZID=America/Los_Angeles:20160731T190000
DTSTAMP:20260423T055326
CREATED:20160727T050021Z
LAST-MODIFIED:20160727T050324Z
UID:10334-1469988000-1469991600@uo.com
SUMMARY:Origin ~ *SOS* Slayers of Scalis
DESCRIPTION:
URL:https://uo.com/event/origin-sos-slayers-of-scalis-3/
CATEGORIES:EM Event
END:VEVENT
BEGIN:VEVENT
DTSTART;TZID=America/New_York:20160731T200000
DTEND;TZID=America/New_York:20160731T210000
DTSTAMP:20260423T055326
CREATED:20160707T061058Z
LAST-MODIFIED:20160707T061058Z
UID:10255-1469995200-1469998800@uo.com
SUMMARY:Atlantic - 8pm East - Conseil du Roi
DESCRIPTION:
URL:https://uo.com/event/atlantic-8pm-east-conseil-du-roi-3/
CATEGORIES:EM Event
END:VEVENT
BEGIN:VEVENT
DTSTART;TZID=Asia/Tokyo:20160731T220000
DTEND;TZID=Asia/Tokyo:20160731T220000
DTSTAMP:20260423T055326
CREATED:20160609T164354Z
LAST-MODIFIED:20160609T164354Z
UID:10133-1470002400-1470002400@uo.com
SUMMARY:Yamato - The Council Meeting with the King
DESCRIPTION:The King invites all Governors and Citizens to the Council Meeting.\n*Please note this meeting requires everyone is “in-character”\, and thus roleplay is expected of all who attend.
URL:https://uo.com/event/yamato-the-council-meeting-with-the-king-10/
LOCATION:Blackthorn Castle
CATEGORIES:EM Event
END:VEVENT
BEGIN:VEVENT
DTSTART;TZID=Asia/Tokyo:20160731T220000
DTEND;TZID=Asia/Tokyo:20160731T220000
DTSTAMP:20260423T055326
CREATED:20160626T055227Z
LAST-MODIFIED:20160626T055227Z
UID:10185-1470002400-1470002400@uo.com
SUMMARY:Sakura - The Council Meeting With The King
DESCRIPTION:The monthly governor’s meeting with King Blackthorn.\nEveryone are invited.
URL:https://uo.com/event/sakura-the-council-meeting-with-the-king-7/
LOCATION:Castle Blackthorn
CATEGORIES:EM Event
END:VEVENT
BEGIN:VEVENT
DTSTART;TZID=America/Los_Angeles:20160731T220000
DTEND;TZID=America/Los_Angeles:20160731T230000
DTSTAMP:20260423T055326
CREATED:20160705T224620Z
LAST-MODIFIED:20160717T135851Z
UID:10238-1470002400-1470006000@uo.com
SUMMARY:Napa Valley - "I love rocks"
DESCRIPTION:
URL:https://uo.com/event/napa-valley-i-love-rocks/
LOCATION:Blackthorn’s Castle Courtyard
CATEGORIES:EM Event
END:VEVENT
END:VCALENDAR