BEGIN:VCALENDAR
VERSION:2.0
PRODID:-//Ultima Online - ECPv5.16.4.1//NONSGML v1.0//EN
CALSCALE:GREGORIAN
METHOD:PUBLISH
X-WR-CALNAME:Ultima Online
X-ORIGINAL-URL:https://uo.com
X-WR-CALDESC:Events for Ultima Online
BEGIN:VTIMEZONE
TZID:Australia/Sydney
BEGIN:STANDARD
TZOFFSETFROM:+1100
TZOFFSETTO:+1000
TZNAME:AEST
DTSTART:20160402T160000
END:STANDARD
BEGIN:DAYLIGHT
TZOFFSETFROM:+1000
TZOFFSETTO:+1100
TZNAME:AEDT
DTSTART:20161001T160000
END:DAYLIGHT
END:VTIMEZONE
BEGIN:VEVENT
DTSTART;TZID=Australia/Sydney:20160804T210000
DTEND;TZID=Australia/Sydney:20160804T220000
DTSTAMP:20260423T042612
CREATED:20160802T200418Z
LAST-MODIFIED:20160802T200424Z
UID:10388-1470344400-1470348000@uo.com
SUMMARY:OCEANIA - The King Of Undead
DESCRIPTION:Gather at 9 PM AEST at EM HALL!!! It’s time to fight the Undead King\, will you be a true Britannian Hero?
URL:https://uo.com/event/oceania-the-king-of-undead/
CATEGORIES:EM Event
END:VEVENT
END:VCALENDAR