BEGIN:VCALENDAR
VERSION:2.0
PRODID:-//Ultima Online - ECPv5.16.4.1//NONSGML v1.0//EN
CALSCALE:GREGORIAN
METHOD:PUBLISH
X-WR-CALNAME:Ultima Online
X-ORIGINAL-URL:https://uo.com
X-WR-CALDESC:Events for Ultima Online
BEGIN:VTIMEZONE
TZID:Asia/Tokyo
BEGIN:STANDARD
TZOFFSETFROM:+0900
TZOFFSETTO:+0900
TZNAME:JST
DTSTART:20160101T000000
END:STANDARD
TZID:Australia/Sydney
BEGIN:STANDARD
TZOFFSETFROM:+1100
TZOFFSETTO:+1000
TZNAME:AEST
DTSTART:20160402T160000
END:STANDARD
BEGIN:DAYLIGHT
TZOFFSETFROM:+1000
TZOFFSETTO:+1100
TZNAME:AEDT
DTSTART:20161001T160000
END:DAYLIGHT
END:VTIMEZONE
BEGIN:VEVENT
DTSTART;TZID=Asia/Tokyo:20160805T210000
DTEND;TZID=Asia/Tokyo:20160805T210000
DTSTAMP:20260423T043136
CREATED:20160718T231037Z
LAST-MODIFIED:20160718T231947Z
UID:10307-1470430800-1470430800@uo.com
SUMMARY:Asuka-Challenge the Void Pool
DESCRIPTION:TBD
URL:https://uo.com/event/challenge-the-void-pool/
LOCATION:Asuka
CATEGORIES:EM Event
END:VEVENT
BEGIN:VEVENT
DTSTART;TZID=Australia/Sydney:20160805T210000
DTEND;TZID=Australia/Sydney:20160805T220000
DTSTAMP:20260423T043136
CREATED:20160803T132705Z
LAST-MODIFIED:20160803T132705Z
UID:10396-1470430800-1470434400@uo.com
SUMMARY:Oceania- Royal Council with the King
DESCRIPTION:9 PM AEST \, Castle Blackthorn\, meet your King!
URL:https://uo.com/event/oceania-royal-council-with-the-king-2/
CATEGORIES:EM Event
END:VEVENT
END:VCALENDAR