BEGIN:VCALENDAR
VERSION:2.0
PRODID:-//Ultima Online - ECPv5.16.4.1//NONSGML v1.0//EN
CALSCALE:GREGORIAN
METHOD:PUBLISH
X-WR-CALNAME:Ultima Online
X-ORIGINAL-URL:https://uo.com
X-WR-CALDESC:Events for Ultima Online
BEGIN:VTIMEZONE
TZID:America/New_York
BEGIN:DAYLIGHT
TZOFFSETFROM:-0500
TZOFFSETTO:-0400
TZNAME:EDT
DTSTART:20160313T070000
END:DAYLIGHT
BEGIN:STANDARD
TZOFFSETFROM:-0400
TZOFFSETTO:-0500
TZNAME:EST
DTSTART:20161106T060000
END:STANDARD
TZID:Asia/Tokyo
BEGIN:STANDARD
TZOFFSETFROM:+0900
TZOFFSETTO:+0900
TZNAME:JST
DTSTART:20160101T000000
END:STANDARD
END:VTIMEZONE
BEGIN:VEVENT
DTSTART;TZID=America/New_York:20160806T200000
DTEND;TZID=America/New_York:20160806T210000
DTSTAMP:20260423T043121
CREATED:20160806T082747Z
LAST-MODIFIED:20160806T082747Z
UID:10457-1470513600-1470517200@uo.com
SUMMARY:Atlantic - 8pm East @ Conseil du Roi
DESCRIPTION:
URL:https://uo.com/event/atlantic-8pm-east-conseil-du-roi-4/
CATEGORIES:EM Event
END:VEVENT
BEGIN:VEVENT
DTSTART;TZID=Asia/Tokyo:20160806T220000
DTEND;TZID=Asia/Tokyo:20160806T220000
DTSTAMP:20260423T043121
CREATED:20160708T130139Z
LAST-MODIFIED:20160708T130428Z
UID:10260-1470520800-1470520800@uo.com
SUMMARY:Mizuho - Navy Training
DESCRIPTION:TBD
URL:https://uo.com/event/mizuho-navy-training/
LOCATION:TBD
CATEGORIES:EM Event
END:VEVENT
BEGIN:VEVENT
DTSTART;TZID=Asia/Tokyo:20160806T220000
DTEND;TZID=Asia/Tokyo:20160806T220000
DTSTAMP:20260423T043121
CREATED:20160724T163109Z
LAST-MODIFIED:20160724T163109Z
UID:10331-1470520800-1470520800@uo.com
SUMMARY:Wakoku – Mini Event
DESCRIPTION:Location: EM Hall
URL:https://uo.com/event/wakoku-mini-event-2/
LOCATION:Wakoku
CATEGORIES:EM Event
END:VEVENT
END:VCALENDAR