BEGIN:VCALENDAR
VERSION:2.0
PRODID:-//Ultima Online - ECPv5.16.4.1//NONSGML v1.0//EN
CALSCALE:GREGORIAN
METHOD:PUBLISH
X-WR-CALNAME:Ultima Online
X-ORIGINAL-URL:https://uo.com
X-WR-CALDESC:Events for Ultima Online
BEGIN:VTIMEZONE
TZID:America/Los_Angeles
BEGIN:DAYLIGHT
TZOFFSETFROM:-0800
TZOFFSETTO:-0700
TZNAME:PDT
DTSTART:20160313T100000
END:DAYLIGHT
BEGIN:STANDARD
TZOFFSETFROM:-0700
TZOFFSETTO:-0800
TZNAME:PST
DTSTART:20161106T090000
END:STANDARD
TZID:Asia/Tokyo
BEGIN:STANDARD
TZOFFSETFROM:+0900
TZOFFSETTO:+0900
TZNAME:JST
DTSTART:20160101T000000
END:STANDARD
END:VTIMEZONE
BEGIN:VEVENT
DTSTART;TZID=America/Los_Angeles:20160807T180000
DTEND;TZID=America/Los_Angeles:20160807T193000
DTSTAMP:20260423T043136
CREATED:20160802T223944Z
LAST-MODIFIED:20160802T223944Z
UID:10393-1470592800-1470598200@uo.com
SUMMARY:Origin ~ Fireside Chat & Mini Monster Mash
DESCRIPTION:
URL:https://uo.com/event/origin-fireside-chat-mini-monster-mash-9/
LOCATION:Award Hall BBQ Area (Malas)
CATEGORIES:EM Event
END:VEVENT
BEGIN:VEVENT
DTSTART;TZID=Asia/Tokyo:20160807T220000
DTEND;TZID=Asia/Tokyo:20160807T220000
DTSTAMP:20260423T043136
CREATED:20160718T233727Z
LAST-MODIFIED:20160718T233727Z
UID:10310-1470607200-1470607200@uo.com
SUMMARY:Asuka - The Council Meeting with the King
DESCRIPTION:Governor’s meeting with King Blackthorn.
URL:https://uo.com/event/asuka-the-council-meeting-with-the-king/
LOCATION:Asuka
CATEGORIES:EM Event
END:VEVENT
END:VCALENDAR