BEGIN:VCALENDAR
VERSION:2.0
PRODID:-//Ultima Online - ECPv5.16.4.1//NONSGML v1.0//EN
CALSCALE:GREGORIAN
METHOD:PUBLISH
X-WR-CALNAME:Ultima Online
X-ORIGINAL-URL:https://uo.com
X-WR-CALDESC:Events for Ultima Online
BEGIN:VTIMEZONE
TZID:America/New_York
BEGIN:DAYLIGHT
TZOFFSETFROM:-0500
TZOFFSETTO:-0400
TZNAME:EDT
DTSTART:20160313T070000
END:DAYLIGHT
BEGIN:STANDARD
TZOFFSETFROM:-0400
TZOFFSETTO:-0500
TZNAME:EST
DTSTART:20161106T060000
END:STANDARD
TZID:America/Los_Angeles
BEGIN:DAYLIGHT
TZOFFSETFROM:-0800
TZOFFSETTO:-0700
TZNAME:PDT
DTSTART:20160313T100000
END:DAYLIGHT
BEGIN:STANDARD
TZOFFSETFROM:-0700
TZOFFSETTO:-0800
TZNAME:PST
DTSTART:20161106T090000
END:STANDARD
END:VTIMEZONE
BEGIN:VEVENT
DTSTART;TZID=America/New_York:20160808T010000
DTEND;TZID=America/New_York:20160822T230000
DTSTAMP:20260423T043232
CREATED:20160805T222832Z
LAST-MODIFIED:20160805T223114Z
UID:10443-1470618000-1471906800@uo.com
SUMMARY:Chessy Fishing Contest
DESCRIPTION:Fish this month is the majestic Lava Fish. Location:  Stygian Abyss Dungeon
URL:https://uo.com/event/chessy-fishing-contest-3/
LOCATION:Chesapeake
CATEGORIES:EM Event
END:VEVENT
BEGIN:VEVENT
DTSTART;TZID=America/Los_Angeles:20160811T190000
DTEND;TZID=America/Los_Angeles:20160811T200000
DTSTAMP:20260423T043232
CREATED:20160806T072009Z
LAST-MODIFIED:20160806T072009Z
UID:10449-1470942000-1470945600@uo.com
SUMMARY:*Pacific* Kings Meeting
DESCRIPTION:
URL:https://uo.com/event/pacific-kings-meeting-4/
LOCATION:Castle Blackthorn Governors Hall
CATEGORIES:EM Event
END:VEVENT
BEGIN:VEVENT
DTSTART;TZID=America/New_York:20160811T200000
DTEND;TZID=America/New_York:20160811T210000
DTSTAMP:20260423T043232
CREATED:20160806T082346Z
LAST-MODIFIED:20160806T082503Z
UID:10453-1470945600-1470949200@uo.com
SUMMARY:Atlantic - 8pm East @ Castle Blackthorn Courtyard\, RP Heavy
DESCRIPTION:
URL:https://uo.com/event/atlantic-8pm-east-castle-blackthorn-courtyard-rp-heavy/
CATEGORIES:EM Event
END:VEVENT
BEGIN:VEVENT
DTSTART;TZID=America/New_York:20160811T220000
DTEND;TZID=America/New_York:20160811T220000
DTSTAMP:20260423T043232
CREATED:20160705T174712Z
LAST-MODIFIED:20160705T174712Z
UID:10233-1470952800-1470952800@uo.com
SUMMARY:Izumo - Request from Bird guild
DESCRIPTION:TBD
URL:https://uo.com/event/izumo-request-from-bird-guild/
CATEGORIES:EM Event
END:VEVENT
END:VCALENDAR