BEGIN:VCALENDAR
VERSION:2.0
PRODID:-//Ultima Online - ECPv5.16.4.1//NONSGML v1.0//EN
CALSCALE:GREGORIAN
METHOD:PUBLISH
X-WR-CALNAME:Ultima Online
X-ORIGINAL-URL:https://uo.com
X-WR-CALDESC:Events for Ultima Online
BEGIN:VTIMEZONE
TZID:America/New_York
BEGIN:DAYLIGHT
TZOFFSETFROM:-0500
TZOFFSETTO:-0400
TZNAME:EDT
DTSTART:20160313T070000
END:DAYLIGHT
BEGIN:STANDARD
TZOFFSETFROM:-0400
TZOFFSETTO:-0500
TZNAME:EST
DTSTART:20161106T060000
END:STANDARD
TZID:America/Los_Angeles
BEGIN:DAYLIGHT
TZOFFSETFROM:-0800
TZOFFSETTO:-0700
TZNAME:PDT
DTSTART:20160313T100000
END:DAYLIGHT
BEGIN:STANDARD
TZOFFSETFROM:-0700
TZOFFSETTO:-0800
TZNAME:PST
DTSTART:20161106T090000
END:STANDARD
TZID:Asia/Tokyo
BEGIN:STANDARD
TZOFFSETFROM:+0900
TZOFFSETTO:+0900
TZNAME:JST
DTSTART:20160101T000000
END:STANDARD
END:VTIMEZONE
BEGIN:VEVENT
DTSTART;TZID=America/New_York:20160808T010000
DTEND;TZID=America/New_York:20160822T230000
DTSTAMP:20260423T043323
CREATED:20160805T222832Z
LAST-MODIFIED:20160805T223114Z
UID:10443-1470618000-1471906800@uo.com
SUMMARY:Chessy Fishing Contest
DESCRIPTION:Fish this month is the majestic Lava Fish. Location:  Stygian Abyss Dungeon
URL:https://uo.com/event/chessy-fishing-contest-3/
LOCATION:Chesapeake
CATEGORIES:EM Event
END:VEVENT
BEGIN:VEVENT
DTSTART;TZID=America/Los_Angeles:20160812T190000
DTEND;TZID=America/Los_Angeles:20160812T200000
DTSTAMP:20260423T043323
CREATED:20160804T041540Z
LAST-MODIFIED:20160804T041540Z
UID:10401-1471028400-1471032000@uo.com
SUMMARY:Origin ~ Old Style Dungeon Crawl! #17
DESCRIPTION:
URL:https://uo.com/event/origin-old-style-dungeon-crawl-17/
LOCATION:Luna Stables (meet at)
CATEGORIES:EM Event
END:VEVENT
BEGIN:VEVENT
DTSTART;TZID=Asia/Tokyo:20160812T220000
DTEND;TZID=Asia/Tokyo:20160812T223000
DTSTAMP:20260423T043323
CREATED:20160809T181955Z
LAST-MODIFIED:20160809T181955Z
UID:10534-1471039200-1471041000@uo.com
SUMMARY:Hokuto Event Strange color plant
DESCRIPTION:Greetings\, \n私は王室広報官のRiccioです。 \n今回はZentoの植物学者さんから依頼が来ております。 \n詳しくはHokuto EMサイトをご覧ください。 \nStart point：Zento Bank
URL:https://uo.com/event/hokuto-event-strange-color-plant/
LOCATION:Hokuto
CATEGORIES:EM Event
END:VEVENT
END:VCALENDAR