BEGIN:VCALENDAR
VERSION:2.0
PRODID:-//Ultima Online - ECPv5.16.4.1//NONSGML v1.0//EN
CALSCALE:GREGORIAN
METHOD:PUBLISH
X-WR-CALNAME:Ultima Online
X-ORIGINAL-URL:https://uo.com
X-WR-CALDESC:Events for Ultima Online
BEGIN:VTIMEZONE
TZID:America/New_York
BEGIN:DAYLIGHT
TZOFFSETFROM:-0500
TZOFFSETTO:-0400
TZNAME:EDT
DTSTART:20160313T070000
END:DAYLIGHT
BEGIN:STANDARD
TZOFFSETFROM:-0400
TZOFFSETTO:-0500
TZNAME:EST
DTSTART:20161106T060000
END:STANDARD
TZID:America/Los_Angeles
BEGIN:DAYLIGHT
TZOFFSETFROM:-0800
TZOFFSETTO:-0700
TZNAME:PDT
DTSTART:20160313T100000
END:DAYLIGHT
BEGIN:STANDARD
TZOFFSETFROM:-0700
TZOFFSETTO:-0800
TZNAME:PST
DTSTART:20161106T090000
END:STANDARD
TZID:Asia/Tokyo
BEGIN:STANDARD
TZOFFSETFROM:+0900
TZOFFSETTO:+0900
TZNAME:JST
DTSTART:20160101T000000
END:STANDARD
END:VTIMEZONE
BEGIN:VEVENT
DTSTART;TZID=America/New_York:20160808T010000
DTEND;TZID=America/New_York:20160822T230000
DTSTAMP:20260423T043221
CREATED:20160805T222832Z
LAST-MODIFIED:20160805T223114Z
UID:10443-1470618000-1471906800@uo.com
SUMMARY:Chessy Fishing Contest
DESCRIPTION:Fish this month is the majestic Lava Fish. Location:  Stygian Abyss Dungeon
URL:https://uo.com/event/chessy-fishing-contest-3/
LOCATION:Chesapeake
CATEGORIES:EM Event
END:VEVENT
BEGIN:VEVENT
DTSTART;TZID=America/Los_Angeles:20160814T190000
DTEND;TZID=America/Los_Angeles:20160814T200000
DTSTAMP:20260423T043221
CREATED:20160809T194849Z
LAST-MODIFIED:20160809T195258Z
UID:10535-1471201200-1471204800@uo.com
SUMMARY:Sonoma - Governor Meeting
DESCRIPTION:All are welcome attend\n7PM Pacific
URL:https://uo.com/event/sonoma-governor-meeting/
CATEGORIES:EM Event
END:VEVENT
BEGIN:VEVENT
DTSTART;TZID=America/New_York:20160814T200000
DTEND;TZID=America/New_York:20160814T210000
DTSTAMP:20260423T043221
CREATED:20160805T224936Z
LAST-MODIFIED:20160808T210251Z
UID:10445-1471204800-1471208400@uo.com
SUMMARY:Chessy Something stinks in Sosaria
DESCRIPTION:A few dead bodies have been spotted throughout the land.  When the King’s investigator would go to each location.. the bodies were gone!! Prepare to be engrossed on a tale so sinister and suspicious you will want to know what is happening\, and by whom.
URL:https://uo.com/event/something-stinks-in-sosaria/
LOCATION:Chesapeake
CATEGORIES:EM Event
END:VEVENT
BEGIN:VEVENT
DTSTART;TZID=Asia/Tokyo:20160814T220000
DTEND;TZID=Asia/Tokyo:20160814T220000
DTSTAMP:20260423T043221
CREATED:20160712T051947Z
LAST-MODIFIED:20160712T051947Z
UID:10281-1471212000-1471212000@uo.com
SUMMARY:Sakura - Surf's Up
DESCRIPTION:TBD \nA mini event.
URL:https://uo.com/event/sakura-surfs-up/
LOCATION:Sakura – EM Hall\, Japan
CATEGORIES:EM Event
END:VEVENT
END:VCALENDAR