BEGIN:VCALENDAR
VERSION:2.0
PRODID:-//Ultima Online - ECPv5.16.4.1//NONSGML v1.0//EN
CALSCALE:GREGORIAN
METHOD:PUBLISH
X-WR-CALNAME:Ultima Online
X-ORIGINAL-URL:https://uo.com
X-WR-CALDESC:Events for Ultima Online
BEGIN:VTIMEZONE
TZID:America/New_York
BEGIN:DAYLIGHT
TZOFFSETFROM:-0500
TZOFFSETTO:-0400
TZNAME:EDT
DTSTART:20160313T070000
END:DAYLIGHT
BEGIN:STANDARD
TZOFFSETFROM:-0400
TZOFFSETTO:-0500
TZNAME:EST
DTSTART:20161106T060000
END:STANDARD
TZID:America/Los_Angeles
BEGIN:DAYLIGHT
TZOFFSETFROM:-0800
TZOFFSETTO:-0700
TZNAME:PDT
DTSTART:20160313T100000
END:DAYLIGHT
BEGIN:STANDARD
TZOFFSETFROM:-0700
TZOFFSETTO:-0800
TZNAME:PST
DTSTART:20161106T090000
END:STANDARD
END:VTIMEZONE
BEGIN:VEVENT
DTSTART;TZID=America/New_York:20160808T010000
DTEND;TZID=America/New_York:20160822T230000
DTSTAMP:20260423T055201
CREATED:20160805T222832Z
LAST-MODIFIED:20160805T223114Z
UID:10443-1470618000-1471906800@uo.com
SUMMARY:Chessy Fishing Contest
DESCRIPTION:Fish this month is the majestic Lava Fish. Location:  Stygian Abyss Dungeon
URL:https://uo.com/event/chessy-fishing-contest-3/
LOCATION:Chesapeake
CATEGORIES:EM Event
END:VEVENT
BEGIN:VEVENT
DTSTART;TZID=America/Los_Angeles:20160817T190000
DTEND;TZID=America/Los_Angeles:20160817T200000
DTSTAMP:20260423T055201
CREATED:20160803T015314Z
LAST-MODIFIED:20160803T015314Z
UID:10394-1471460400-1471464000@uo.com
SUMMARY:Baja - Something Afoul
DESCRIPTION:Richardson the Guard Captain needs your help with investigating a blockage in the Britain sewers. Some guards were sent down to investigate\, but they have not returned…
URL:https://uo.com/event/baja-something-afoul/
LOCATION:Meet At Counselor Hall
CATEGORIES:EM Event
END:VEVENT
BEGIN:VEVENT
DTSTART;TZID=America/New_York:20160817T190000
DTEND;TZID=America/New_York:20160817T191500
DTSTAMP:20260423T055201
CREATED:20160815T212523Z
LAST-MODIFIED:20161008T221646Z
UID:10588-1471460400-1471461300@uo.com
SUMMARY:Catskills - The Forgotten
DESCRIPTION:Haldemar thinks he can help with recent developments. \nThis is the continuation of events from 08.15.16 – this event will only take around fifteen minutes and will then be for you to complete in your own time. \nDon’t forget to send in reports for your RBG points!
URL:https://uo.com/event/catskills-the-forgotten-3/
LOCATION:Catskills
CATEGORIES:EM Event
END:VEVENT
BEGIN:VEVENT
DTSTART;TZID=America/New_York:20160817T200000
DTEND;TZID=America/New_York:20160817T210000
DTSTAMP:20260423T055201
CREATED:20160805T231803Z
LAST-MODIFIED:20160808T210103Z
UID:10446-1471464000-1471467600@uo.com
SUMMARY:Chessy Meeting of RBG
DESCRIPTION:Anyone who was a member of the  RBG\, and anyone else wanting to join we will meet for introductions and go over rules\, titles earned\, etc.
URL:https://uo.com/event/chessy-meeting-of-rbg/
LOCATION:Chesapeake
CATEGORIES:EM Event
END:VEVENT
END:VCALENDAR