BEGIN:VCALENDAR
VERSION:2.0
PRODID:-//Ultima Online - ECPv5.16.4.1//NONSGML v1.0//EN
CALSCALE:GREGORIAN
METHOD:PUBLISH
X-WR-CALNAME:Ultima Online
X-ORIGINAL-URL:https://uo.com
X-WR-CALDESC:Events for Ultima Online
BEGIN:VTIMEZONE
TZID:America/New_York
BEGIN:DAYLIGHT
TZOFFSETFROM:-0500
TZOFFSETTO:-0400
TZNAME:EDT
DTSTART:20160313T070000
END:DAYLIGHT
BEGIN:STANDARD
TZOFFSETFROM:-0400
TZOFFSETTO:-0500
TZNAME:EST
DTSTART:20161106T060000
END:STANDARD
TZID:America/Los_Angeles
BEGIN:DAYLIGHT
TZOFFSETFROM:-0800
TZOFFSETTO:-0700
TZNAME:PDT
DTSTART:20160313T100000
END:DAYLIGHT
BEGIN:STANDARD
TZOFFSETFROM:-0700
TZOFFSETTO:-0800
TZNAME:PST
DTSTART:20161106T090000
END:STANDARD
END:VTIMEZONE
BEGIN:VEVENT
DTSTART;TZID=America/New_York:20160808T010000
DTEND;TZID=America/New_York:20160822T230000
DTSTAMP:20260423T043323
CREATED:20160805T222832Z
LAST-MODIFIED:20160805T223114Z
UID:10443-1470618000-1471906800@uo.com
SUMMARY:Chessy Fishing Contest
DESCRIPTION:Fish this month is the majestic Lava Fish. Location:  Stygian Abyss Dungeon
URL:https://uo.com/event/chessy-fishing-contest-3/
LOCATION:Chesapeake
CATEGORIES:EM Event
END:VEVENT
BEGIN:VEVENT
DTSTART;TZID=America/New_York:20160818T130000
DTEND;TZID=America/New_York:20160818T170000
DTSTAMP:20260423T043323
CREATED:20160806T082240Z
LAST-MODIFIED:20160806T082240Z
UID:10452-1471525200-1471539600@uo.com
SUMMARY:Siege Perilous -  1pm East @ EM Hall
DESCRIPTION:
URL:https://uo.com/event/siege-perilous-1pm-east-em-hall/
CATEGORIES:EM Event
END:VEVENT
BEGIN:VEVENT
DTSTART;TZID=America/Los_Angeles:20160818T190000
DTEND;TZID=America/Los_Angeles:20160818T200000
DTSTAMP:20260423T043323
CREATED:20160806T072303Z
LAST-MODIFIED:20160806T072303Z
UID:10450-1471546800-1471550400@uo.com
SUMMARY:*Pacific* - Decay
DESCRIPTION:This month marks the 1 year Anniversary of Ashmedai’s tyranny. Once every year he is to be unleashed upon mankind to unveil his reckoning – destroying all in his way. Citizens of Pacific unite as one to challenge the evil prince known as Ashmedai. Can they defeat him? Can they escape his vile essence? These are questions no mortal can answer. Death awaits those who put pride above fear!
URL:https://uo.com/event/pacific-decay/
LOCATION:Castle Blackthorn Courtyard
CATEGORIES:EM Event
END:VEVENT
BEGIN:VEVENT
DTSTART;TZID=America/New_York:20160818T200000
DTEND;TZID=America/New_York:20160818T210000
DTSTAMP:20260423T043323
CREATED:20160730T162046Z
LAST-MODIFIED:20160730T162046Z
UID:10353-1471550400-1471554000@uo.com
SUMMARY:Legends - The Big Dig
DESCRIPTION:On Thursday\, August 18th at 8:00 PM EST\, meet at Moonglow to assist the Royal Digger.
URL:https://uo.com/event/legends-the-big-dig/
LOCATION:Legends
CATEGORIES:EM Event
END:VEVENT
BEGIN:VEVENT
DTSTART;TZID=America/New_York:20160818T200000
DTEND;TZID=America/New_York:20160818T210000
DTSTAMP:20260423T043323
CREATED:20160806T082421Z
LAST-MODIFIED:20160806T082619Z
UID:10454-1471550400-1471554000@uo.com
SUMMARY:Atlantic - 8pm East @ Castle Blackthorn Courtyard\, RP Heavy
DESCRIPTION:
URL:https://uo.com/event/8pm-east-castle-blackthorn-courtyard-rp-heavy/
CATEGORIES:EM Event
END:VEVENT
END:VCALENDAR