BEGIN:VCALENDAR
VERSION:2.0
PRODID:-//Ultima Online - ECPv5.16.4.1//NONSGML v1.0//EN
CALSCALE:GREGORIAN
METHOD:PUBLISH
X-WR-CALNAME:Ultima Online
X-ORIGINAL-URL:https://uo.com
X-WR-CALDESC:Events for Ultima Online
BEGIN:VTIMEZONE
TZID:America/New_York
BEGIN:DAYLIGHT
TZOFFSETFROM:-0500
TZOFFSETTO:-0400
TZNAME:EDT
DTSTART:20160313T070000
END:DAYLIGHT
BEGIN:STANDARD
TZOFFSETFROM:-0400
TZOFFSETTO:-0500
TZNAME:EST
DTSTART:20161106T060000
END:STANDARD
TZID:Asia/Tokyo
BEGIN:STANDARD
TZOFFSETFROM:+0900
TZOFFSETTO:+0900
TZNAME:JST
DTSTART:20160101T000000
END:STANDARD
END:VTIMEZONE
BEGIN:VEVENT
DTSTART;TZID=America/New_York:20160808T010000
DTEND;TZID=America/New_York:20160822T230000
DTSTAMP:20260423T043822
CREATED:20160805T222832Z
LAST-MODIFIED:20160805T223114Z
UID:10443-1470618000-1471906800@uo.com
SUMMARY:Chessy Fishing Contest
DESCRIPTION:Fish this month is the majestic Lava Fish. Location:  Stygian Abyss Dungeon
URL:https://uo.com/event/chessy-fishing-contest-3/
LOCATION:Chesapeake
CATEGORIES:EM Event
END:VEVENT
BEGIN:VEVENT
DTSTART;TZID=Asia/Tokyo:20160819T220000
DTEND;TZID=Asia/Tokyo:20160819T220000
DTSTAMP:20260423T043822
CREATED:20160708T130653Z
LAST-MODIFIED:20160708T130718Z
UID:10263-1471644000-1471644000@uo.com
SUMMARY:Mizuho - Event (TBD)
DESCRIPTION:TBD
URL:https://uo.com/event/mizuho-event-tbd-2/
LOCATION:TBD
CATEGORIES:EM Event
END:VEVENT
BEGIN:VEVENT
DTSTART;TZID=Asia/Tokyo:20160819T220000
DTEND;TZID=Asia/Tokyo:20160819T220000
DTSTAMP:20260423T043822
CREATED:20160718T233944Z
LAST-MODIFIED:20160718T233944Z
UID:10311-1471644000-1471644000@uo.com
SUMMARY:Asuka - Event
DESCRIPTION:TBD
URL:https://uo.com/event/asuka-event/
LOCATION:Asuka
CATEGORIES:EM Event
END:VEVENT
END:VCALENDAR