BEGIN:VCALENDAR
VERSION:2.0
PRODID:-//Ultima Online - ECPv5.16.4.1//NONSGML v1.0//EN
CALSCALE:GREGORIAN
METHOD:PUBLISH
X-WR-CALNAME:Ultima Online
X-ORIGINAL-URL:https://uo.com
X-WR-CALDESC:Events for Ultima Online
BEGIN:VTIMEZONE
TZID:America/New_York
BEGIN:DAYLIGHT
TZOFFSETFROM:-0500
TZOFFSETTO:-0400
TZNAME:EDT
DTSTART:20160313T070000
END:DAYLIGHT
BEGIN:STANDARD
TZOFFSETFROM:-0400
TZOFFSETTO:-0500
TZNAME:EST
DTSTART:20161106T060000
END:STANDARD
TZID:America/Los_Angeles
BEGIN:DAYLIGHT
TZOFFSETFROM:-0800
TZOFFSETTO:-0700
TZNAME:PDT
DTSTART:20160313T100000
END:DAYLIGHT
BEGIN:STANDARD
TZOFFSETFROM:-0700
TZOFFSETTO:-0800
TZNAME:PST
DTSTART:20161106T090000
END:STANDARD
TZID:Asia/Seoul
BEGIN:STANDARD
TZOFFSETFROM:+0900
TZOFFSETTO:+0900
TZNAME:KST
DTSTART:20160101T000000
END:STANDARD
TZID:Asia/Tokyo
BEGIN:STANDARD
TZOFFSETFROM:+0900
TZOFFSETTO:+0900
TZNAME:JST
DTSTART:20160101T000000
END:STANDARD
END:VTIMEZONE
BEGIN:VEVENT
DTSTART;TZID=America/New_York:20160808T010000
DTEND;TZID=America/New_York:20160822T230000
DTSTAMP:20260423T043121
CREATED:20160805T222832Z
LAST-MODIFIED:20160805T223114Z
UID:10443-1470618000-1471906800@uo.com
SUMMARY:Chessy Fishing Contest
DESCRIPTION:Fish this month is the majestic Lava Fish. Location:  Stygian Abyss Dungeon
URL:https://uo.com/event/chessy-fishing-contest-3/
LOCATION:Chesapeake
CATEGORIES:EM Event
END:VEVENT
BEGIN:VEVENT
DTSTART;TZID=America/Los_Angeles:20160820T190000
DTEND;TZID=America/Los_Angeles:20160820T200000
DTSTAMP:20260423T043121
CREATED:20160803T020940Z
LAST-MODIFIED:20160803T020940Z
UID:10395-1471719600-1471723200@uo.com
SUMMARY:Baja - August Pet Battles
DESCRIPTION:August Pet Battles! This month’s creature is the vile Skree\, found in Ter Mur.
URL:https://uo.com/event/baja-august-pet-battles/
LOCATION:New Haven Arena
CATEGORIES:EM Event
END:VEVENT
BEGIN:VEVENT
DTSTART;TZID=Asia/Seoul:20160820T200000
DTEND;TZID=Asia/Seoul:20160820T210000
DTSTAMP:20260423T043121
CREATED:20160806T094319Z
LAST-MODIFIED:20160806T094319Z
UID:10458-1471723200-1471726800@uo.com
SUMMARY:Arirang - Dart Challenge
DESCRIPTION:Notification \nDate/Time: August 20th 2016 Saturday 20:00 KST (07:00 ET)\nMeeting Place: Britain EM Hall \nCaution! \nThis month is dart throwing challenge! All participants will throw 5 knives to dart and the one who gets higher point will win. It’s a tournament\, 2 players will be chosen randomly and the one who wins will challenge with another winner. Name of 3 winners will be engraved special dartboard in EM Hall. \nWarning \nIf you disrupt the event\, spamming\, insulting other players or EM will eventually make bad record to your account. Please pay attention to EM when he trying to speak something. \nEM will try to listen to you when he finished his speech. And be advised that there’s some things that EMs cannot help you with. If these behavior continue\, EM has no choice but to stop the event till it’s solved. \nEvent Chat Channel \nWe’re using Arirang EM Event during the event. Access here to communicate with EM and get some information from the other players as well. EM will not take any responsibility for missing any information because of this. (NO #!) \nThank you.
URL:https://uo.com/event/arirang-dart-challenge/
LOCATION:Arirang
CATEGORIES:EM Event
END:VEVENT
BEGIN:VEVENT
DTSTART;TZID=Asia/Tokyo:20160820T220000
DTEND;TZID=Asia/Tokyo:20160820T220000
DTSTAMP:20260423T043121
CREATED:20160708T132715Z
LAST-MODIFIED:20160708T133603Z
UID:10268-1471730400-1471730400@uo.com
SUMMARY:Mizuho - The Council Meeting with the King
DESCRIPTION:The King invites all Governors and Citizens to the Council Meeting held at Blackthorn Castle.
URL:https://uo.com/event/mizuho-the-council-meeting-with-the-king-3/
LOCATION:Blackthorn Castle
CATEGORIES:EM Event
END:VEVENT
BEGIN:VEVENT
DTSTART;TZID=Asia/Tokyo:20160820T220000
DTEND;TZID=Asia/Tokyo:20160820T220000
DTSTAMP:20260423T043121
CREATED:20160724T163247Z
LAST-MODIFIED:20160724T163247Z
UID:10332-1471730400-1471730400@uo.com
SUMMARY:Wakoku – Reference 7 -memento mori*-
DESCRIPTION:Location: Britainnia Public Library
URL:https://uo.com/event/wakoku-reference-7-memento-mori/
LOCATION:Wakoku
CATEGORIES:EM Event
END:VEVENT
END:VCALENDAR