BEGIN:VCALENDAR
VERSION:2.0
PRODID:-//Ultima Online - ECPv5.16.4.1//NONSGML v1.0//EN
CALSCALE:GREGORIAN
METHOD:PUBLISH
X-WR-CALNAME:Ultima Online
X-ORIGINAL-URL:https://uo.com
X-WR-CALDESC:Events for Ultima Online
BEGIN:VTIMEZONE
TZID:America/New_York
BEGIN:DAYLIGHT
TZOFFSETFROM:-0500
TZOFFSETTO:-0400
TZNAME:EDT
DTSTART:20160313T070000
END:DAYLIGHT
BEGIN:STANDARD
TZOFFSETFROM:-0400
TZOFFSETTO:-0500
TZNAME:EST
DTSTART:20161106T060000
END:STANDARD
TZID:America/Los_Angeles
BEGIN:DAYLIGHT
TZOFFSETFROM:-0800
TZOFFSETTO:-0700
TZNAME:PDT
DTSTART:20160313T100000
END:DAYLIGHT
BEGIN:STANDARD
TZOFFSETFROM:-0700
TZOFFSETTO:-0800
TZNAME:PST
DTSTART:20161106T090000
END:STANDARD
TZID:Europe/Berlin
BEGIN:DAYLIGHT
TZOFFSETFROM:+0100
TZOFFSETTO:+0200
TZNAME:CEST
DTSTART:20160327T010000
END:DAYLIGHT
BEGIN:STANDARD
TZOFFSETFROM:+0200
TZOFFSETTO:+0100
TZNAME:CET
DTSTART:20161030T010000
END:STANDARD
TZID:Asia/Tokyo
BEGIN:STANDARD
TZOFFSETFROM:+0900
TZOFFSETTO:+0900
TZNAME:JST
DTSTART:20160101T000000
END:STANDARD
END:VTIMEZONE
BEGIN:VEVENT
DTSTART;TZID=America/New_York:20160808T010000
DTEND;TZID=America/New_York:20160822T230000
DTSTAMP:20260423T043116
CREATED:20160805T222832Z
LAST-MODIFIED:20160805T223114Z
UID:10443-1470618000-1471906800@uo.com
SUMMARY:Chessy Fishing Contest
DESCRIPTION:Fish this month is the majestic Lava Fish. Location:  Stygian Abyss Dungeon
URL:https://uo.com/event/chessy-fishing-contest-3/
LOCATION:Chesapeake
CATEGORIES:EM Event
END:VEVENT
BEGIN:VEVENT
DTSTART;TZID=America/Los_Angeles:20160821T180000
DTEND;TZID=America/Los_Angeles:20160821T183000
DTSTAMP:20260423T043116
CREATED:20160817T042156Z
LAST-MODIFIED:20160817T042337Z
UID:10589-1471802400-1471804200@uo.com
SUMMARY:Origin ~ Meeting with King Blackthorn
DESCRIPTION:
URL:https://uo.com/event/origin-meeting-with-king-blackthorn-8/
LOCATION:Blackthorn Castle meeting room
CATEGORIES:EM Event
END:VEVENT
BEGIN:VEVENT
DTSTART;TZID=America/New_York:20160821T183000
DTEND;TZID=America/New_York:20160821T193000
DTSTAMP:20260423T043116
CREATED:20160817T042620Z
LAST-MODIFIED:20160817T042620Z
UID:10590-1471804200-1471807800@uo.com
SUMMARY:Origin ~ O.R.G. Boot Camp XII (Summer Session II)
DESCRIPTION:
URL:https://uo.com/event/origin-o-r-g-boot-camp-xii-summer-session-ii/
LOCATION:O.R.G. Training Grounds (Malas)
CATEGORIES:EM Event
END:VEVENT
BEGIN:VEVENT
DTSTART;TZID=America/New_York:20160821T200000
DTEND;TZID=America/New_York:20160821T210000
DTSTAMP:20260423T043116
CREATED:20160805T222353Z
LAST-MODIFIED:20160808T210211Z
UID:10442-1471809600-1471813200@uo.com
SUMMARY:Chessy Governor Meeting
DESCRIPTION:Come one come all to the monthly Governor meeting with the King!  Meet at Castle  Blackthorn at 8 PM EST
URL:https://uo.com/event/chessy-governor-meeting-3/
LOCATION:Chesapeake
CATEGORIES:EM Event
END:VEVENT
BEGIN:VEVENT
DTSTART;TZID=Europe/Berlin:20160821T203000
DTEND;TZID=Europe/Berlin:20160821T213000
DTSTAMP:20260423T043116
CREATED:20160731T130929Z
LAST-MODIFIED:20160731T130929Z
UID:10359-1471811400-1471815000@uo.com
SUMMARY:Drachenfels: The Tree of You | Der Lebensbaum
DESCRIPTION:Time: 8:30pm CEST (UTC+2).  Location: Counselor’s Hall\, Britain\, Trammel.\nMain Event: The Tree of You – Octavo Musicus has gained the knowledge of three “musical” trees. They occupy ingredients to the absolute musical hearing he wants to possess… \nZeit: 20:30 Uhr CEST (UTC+2). Ort: Counselor’s Hall\, Britain\, Trammel.\nHauptevent: Der Lebensbaum – Octavo Musicus hat Kenntnis von drei “musikalischen” Bäumen erlangt. Sie beherbergen Zutaten für das absolute musikalische Gehör\, das er unbedingt haben will…
URL:https://uo.com/event/drachenfels-the-tree-of-you-der-lebensbaum/
LOCATION:Drachenfels
CATEGORIES:EM Event
END:VEVENT
BEGIN:VEVENT
DTSTART;TZID=Asia/Tokyo:20160821T220000
DTEND;TZID=Asia/Tokyo:20160821T220000
DTSTAMP:20260423T043116
CREATED:20160712T050009Z
LAST-MODIFIED:20160712T050009Z
UID:10280-1471816800-1471816800@uo.com
SUMMARY:Sakura - Reunion part 3
DESCRIPTION:TBD \nChat: JapanEMevent
URL:https://uo.com/event/sakura-reunion-part-3/
LOCATION:Sakura – EM Hall\, Japan
CATEGORIES:EM Event
END:VEVENT
END:VCALENDAR