BEGIN:VCALENDAR
VERSION:2.0
PRODID:-//Ultima Online - ECPv5.16.4.1//NONSGML v1.0//EN
CALSCALE:GREGORIAN
METHOD:PUBLISH
X-WR-CALNAME:Ultima Online
X-ORIGINAL-URL:https://uo.com
X-WR-CALDESC:Events for Ultima Online
BEGIN:VTIMEZONE
TZID:Asia/Tokyo
BEGIN:STANDARD
TZOFFSETFROM:+0900
TZOFFSETTO:+0900
TZNAME:JST
DTSTART:20160101T000000
END:STANDARD
TZID:America/New_York
BEGIN:DAYLIGHT
TZOFFSETFROM:-0500
TZOFFSETTO:-0400
TZNAME:EDT
DTSTART:20160313T070000
END:DAYLIGHT
BEGIN:STANDARD
TZOFFSETFROM:-0400
TZOFFSETTO:-0500
TZNAME:EST
DTSTART:20161106T060000
END:STANDARD
TZID:Asia/Seoul
BEGIN:STANDARD
TZOFFSETFROM:+0900
TZOFFSETTO:+0900
TZNAME:KST
DTSTART:20160101T000000
END:STANDARD
END:VTIMEZONE
BEGIN:VEVENT
DTSTART;TZID=Asia/Tokyo:20160827T100000
DTEND;TZID=Asia/Tokyo:20160827T230000
DTSTAMP:20260423T043328
CREATED:20160825T152059Z
LAST-MODIFIED:20160825T152059Z
UID:10620-1472292000-1472338800@uo.com
SUMMARY:Hokuto: Strange color plant part2
DESCRIPTION:前回イベントの続きです \n詳しくは北斗ＥＭサイトでご確認ください \nStart point:Zento Bank  8/27/2016 10:00pm (JST) \n 
URL:https://uo.com/event/hokuto-strange-color-plant-part2/
LOCATION:Hokuto
CATEGORIES:EM Event
END:VEVENT
BEGIN:VEVENT
DTSTART;TZID=America/New_York:20160827T200000
DTEND;TZID=America/New_York:20160827T210000
DTSTAMP:20260423T043328
CREATED:20160806T082715Z
LAST-MODIFIED:20160806T082715Z
UID:10456-1472328000-1472331600@uo.com
SUMMARY:Atlantic - 8pm East @ Castle Blackthorn Courtyard\, Felucca PvP Madness
DESCRIPTION:
URL:https://uo.com/event/atlantic-8pm-east-castle-blackthorn-courtyard-felucca-pvp-madness/
CATEGORIES:EM Event
END:VEVENT
BEGIN:VEVENT
DTSTART;TZID=Asia/Seoul:20160827T200000
DTEND;TZID=Asia/Seoul:20160827T210000
DTSTAMP:20260423T043328
CREATED:20160806T094516Z
LAST-MODIFIED:20160806T094516Z
UID:10460-1472328000-1472331600@uo.com
SUMMARY:Arirang - Queen's Decision
DESCRIPTION:Story \nNatatilor the Seer succeed to recharge the golem’s power core with the Void energy. Now he believes this must be reported to the Queen. A human journalist and a gargoyle travel to the Royal City. However\, he worried this discovery was reminding gargoyles the time they want to forget\, and the one who ordered build this clockwork was gargoyle’s one of most fearsome enemy\, Exodus. She could order them to destroy the foul machine anytime. Everything is depend on her decision. \nNotification \nDate/Time: August 27th 2016 Saturday 20:00 KST (07:00 ET)\nMeeting Place: Britain EM Hall \nCaution! \nWe’re expecting battle in this event\, please insure your precious items or leave them to your bank box. Event time is not that long so we’ll start it right in time. \nWarning \nIf you disrupt the event\, spamming\, insulting other players or EM will eventually make bad record to your account. Please pay attention to EM when he trying to speak something. \nEM will try to listen to you when he finished his speech. And be advised that there’s some things that EMs cannot help you with. If these behavior continue\, EM has no choice but to stop the event till it’s solved. \nEvent Chat Channel \nWe’re using Arirang EM Event during the event. Access here to communicate with EM and get some information from the other players as well. EM will not take any responsibility for missing any information because of this. (NO #!) \nThank you.
URL:https://uo.com/event/arirang-queens-decision/
LOCATION:Arirang
CATEGORIES:EM Event
END:VEVENT
BEGIN:VEVENT
DTSTART;TZID=America/New_York:20160827T200000
DTEND;TZID=America/New_York:20160827T210000
DTSTAMP:20260423T043328
CREATED:20160812T231910Z
LAST-MODIFIED:20160812T231910Z
UID:10575-1472328000-1472331600@uo.com
SUMMARY:Legends - Tamer's Tourney
DESCRIPTION:On Saturday\, August 27th at 8:00 PM EST\, meet at the New Haven Arena for a Tamer’s Tourney. The animal of this month is a regular horse.
URL:https://uo.com/event/legends-tamers-tourney/
LOCATION:Legends
CATEGORIES:EM Event
END:VEVENT
BEGIN:VEVENT
DTSTART;TZID=America/New_York:20160827T220000
DTEND;TZID=America/New_York:20160827T220000
DTSTAMP:20260423T043328
CREATED:20160705T174226Z
LAST-MODIFIED:20160705T174226Z
UID:10231-1472335200-1472335200@uo.com
SUMMARY:Izumo – The Council Meeting with the King
DESCRIPTION:The King invites all Governors and Citizens to the Council Meeting.\n*Please note this meeting requires everyone is “in-character”\, and thus roleplay is expected of all who attend.
URL:https://uo.com/event/izumo-the-council-meeting-with-the-king-4/
CATEGORIES:EM Event
END:VEVENT
BEGIN:VEVENT
DTSTART;TZID=Asia/Tokyo:20160827T220000
DTEND;TZID=Asia/Tokyo:20160827T220000
DTSTAMP:20260423T043328
CREATED:20160724T163350Z
LAST-MODIFIED:20160724T163350Z
UID:10333-1472335200-1472335200@uo.com
SUMMARY:Wakoku – The Council Meeting
DESCRIPTION:Location : Castle Blackthorn
URL:https://uo.com/event/wakoku-the-council-meeting-9/
LOCATION:Wakoku
CATEGORIES:EM Event
END:VEVENT
END:VCALENDAR