BEGIN:VCALENDAR
VERSION:2.0
PRODID:-//Ultima Online - ECPv5.16.4.1//NONSGML v1.0//EN
CALSCALE:GREGORIAN
METHOD:PUBLISH
X-WR-CALNAME:Ultima Online
X-ORIGINAL-URL:https://uo.com
X-WR-CALDESC:Events for Ultima Online
BEGIN:VTIMEZONE
TZID:America/Los_Angeles
BEGIN:DAYLIGHT
TZOFFSETFROM:-0800
TZOFFSETTO:-0700
TZNAME:PDT
DTSTART:20160313T100000
END:DAYLIGHT
BEGIN:STANDARD
TZOFFSETFROM:-0700
TZOFFSETTO:-0800
TZNAME:PST
DTSTART:20161106T090000
END:STANDARD
TZID:America/Chicago
BEGIN:DAYLIGHT
TZOFFSETFROM:-0600
TZOFFSETTO:-0500
TZNAME:CDT
DTSTART:20160313T080000
END:DAYLIGHT
BEGIN:STANDARD
TZOFFSETFROM:-0500
TZOFFSETTO:-0600
TZNAME:CST
DTSTART:20161106T070000
END:STANDARD
TZID:Europe/Berlin
BEGIN:DAYLIGHT
TZOFFSETFROM:+0100
TZOFFSETTO:+0200
TZNAME:CEST
DTSTART:20160327T010000
END:DAYLIGHT
BEGIN:STANDARD
TZOFFSETFROM:+0200
TZOFFSETTO:+0100
TZNAME:CET
DTSTART:20161030T010000
END:STANDARD
END:VTIMEZONE
BEGIN:VEVENT
DTSTART;TZID=America/Los_Angeles:20160830T190000
DTEND;TZID=America/Los_Angeles:20160830T200000
DTSTAMP:20260423T024807
CREATED:20160822T165601Z
LAST-MODIFIED:20160822T165601Z
UID:10595-1472583600-1472587200@uo.com
SUMMARY:Origin ~ Fuddy Wuddys Tale VIII …. *Flop Like a Fish!
DESCRIPTION:
URL:https://uo.com/event/origin-fuddy-wuddys-tale-viii-flop-like-a-fish/
LOCATION:Luna Stables (meet at)
CATEGORIES:EM Event
END:VEVENT
BEGIN:VEVENT
DTSTART;TZID=America/Chicago:20160830T200000
DTEND;TZID=America/Chicago:20160830T200000
DTSTAMP:20260423T024807
CREATED:20160802T042450Z
LAST-MODIFIED:20160802T042450Z
UID:10372-1472587200-1472587200@uo.com
SUMMARY:Great Lakes - Royal Spy Mission
DESCRIPTION:This Royal Spy mission has the codename “The Elder Beast”. To attend\, go to the Britain Counselor Hall and investigate the suit of armor.
URL:https://uo.com/event/great-lakes-royal-spy-mission-25/
LOCATION:Great Lakes – Counselor Hall
CATEGORIES:EM Event
END:VEVENT
BEGIN:VEVENT
DTSTART;TZID=Europe/Berlin:20160830T203000
DTEND;TZID=Europe/Berlin:20160830T213000
DTSTAMP:20260423T024807
CREATED:20160731T131604Z
LAST-MODIFIED:20160731T131604Z
UID:10363-1472589000-1472592600@uo.com
SUMMARY:Drachenfels: Game Night | Spielabend (HoF)
DESCRIPTION:Time: 8:30pm CEST (UTC+2).  Location: Fairground\, Luna.\n(RP) Game Night (HoF) with a Mini Event of Ludo!\nUse public moongates at WBB\, Luna or New Haven. \nZeit: 20:30 Uhr CEST (UTC+2). Ort: Festgelände\, Luna.\n(RP) Spielabend (HoF) mit einem Mini Event von Mensch Ärgere Dich Nicht!\nBenutzt die öffentlichen Mondtore an der WBB\, Luna oder New Haven.
URL:https://uo.com/event/drachenfels-game-night-spielabend-hof/
LOCATION:Drachenfels
CATEGORIES:EM Event
END:VEVENT
END:VCALENDAR