BEGIN:VCALENDAR
VERSION:2.0
PRODID:-//Ultima Online - ECPv5.16.4.1//NONSGML v1.0//EN
CALSCALE:GREGORIAN
METHOD:PUBLISH
X-WR-CALNAME:Ultima Online
X-ORIGINAL-URL:https://uo.com
X-WR-CALDESC:Events for Ultima Online
BEGIN:VTIMEZONE
TZID:America/Los_Angeles
BEGIN:DAYLIGHT
TZOFFSETFROM:-0800
TZOFFSETTO:-0700
TZNAME:PDT
DTSTART:20160313T100000
END:DAYLIGHT
BEGIN:STANDARD
TZOFFSETFROM:-0700
TZOFFSETTO:-0800
TZNAME:PST
DTSTART:20161106T090000
END:STANDARD
TZID:America/New_York
BEGIN:DAYLIGHT
TZOFFSETFROM:-0500
TZOFFSETTO:-0400
TZNAME:EDT
DTSTART:20160313T070000
END:DAYLIGHT
BEGIN:STANDARD
TZOFFSETFROM:-0400
TZOFFSETTO:-0500
TZNAME:EST
DTSTART:20161106T060000
END:STANDARD
END:VTIMEZONE
BEGIN:VEVENT
DTSTART;TZID=America/Los_Angeles:20160831T190000
DTEND;TZID=America/Los_Angeles:20160831T200000
DTSTAMP:20260423T024034
CREATED:20160809T195216Z
LAST-MODIFIED:20160825T035123Z
UID:10537-1472670000-1472673600@uo.com
SUMMARY:Sonoma - An Official Ruling
DESCRIPTION:The guard meet to decide if charges should be pressed against Renold the Tinker
URL:https://uo.com/event/sonoma-an-official-ruling/
CATEGORIES:EM Event
END:VEVENT
BEGIN:VEVENT
DTSTART;TZID=America/New_York:20160831T200000
DTEND;TZID=America/New_York:20160831T210000
DTSTAMP:20260423T024034
CREATED:20160808T155414Z
LAST-MODIFIED:20160823T020234Z
UID:10500-1472673600-1472677200@uo.com
SUMMARY:***Lake Superior***The Museum of Mystery part 2
DESCRIPTION:The Museum has been constructed. The builders did not build it on the graveyard but gabriel is still very upset and still continues at attack the grand opening of the Museum. \n  \nA  gate will be provided at 8pm EST at Luna bank
URL:https://uo.com/event/lake-superiorthe-museum-of-mystery-part-2/
CATEGORIES:EM Event
END:VEVENT
END:VCALENDAR