BEGIN:VCALENDAR
VERSION:2.0
PRODID:-//Ultima Online - ECPv5.16.4.1//NONSGML v1.0//EN
CALSCALE:GREGORIAN
METHOD:PUBLISH
X-WR-CALNAME:Ultima Online
X-ORIGINAL-URL:https://uo.com
X-WR-CALDESC:Events for Ultima Online
BEGIN:VTIMEZONE
TZID:Asia/Tokyo
BEGIN:STANDARD
TZOFFSETFROM:+0900
TZOFFSETTO:+0900
TZNAME:JST
DTSTART:20160101T000000
END:STANDARD
TZID:America/New_York
BEGIN:DAYLIGHT
TZOFFSETFROM:-0500
TZOFFSETTO:-0400
TZNAME:EDT
DTSTART:20160313T070000
END:DAYLIGHT
BEGIN:STANDARD
TZOFFSETFROM:-0400
TZOFFSETTO:-0500
TZNAME:EST
DTSTART:20161106T060000
END:STANDARD
TZID:America/Los_Angeles
BEGIN:DAYLIGHT
TZOFFSETFROM:-0800
TZOFFSETTO:-0700
TZNAME:PDT
DTSTART:20160313T100000
END:DAYLIGHT
BEGIN:STANDARD
TZOFFSETFROM:-0700
TZOFFSETTO:-0800
TZNAME:PST
DTSTART:20161106T090000
END:STANDARD
END:VTIMEZONE
BEGIN:VEVENT
DTSTART;VALUE=DATE:20160901
DTEND;VALUE=DATE:20160911
DTSTAMP:20260423T025611
CREATED:20160823T125714Z
LAST-MODIFIED:20160823T125714Z
UID:10597-1472688000-1473551999@uo.com
SUMMARY:Asuka-Mini Event
DESCRIPTION:House design competition accepted
URL:https://uo.com/event/asuka-mini-event-2/
CATEGORIES:EM Event
END:VEVENT
BEGIN:VEVENT
DTSTART;TZID=America/New_York:20160906T000500
DTEND;TZID=America/New_York:20160919T235500
DTSTAMP:20260423T025611
CREATED:20160912T182924Z
LAST-MODIFIED:20160912T182924Z
UID:10804-1473120300-1474329300@uo.com
SUMMARY:Chessy Fishing Contest
DESCRIPTION:This month:  Rainbow fish. Please drop off your submission/s at the HoC mailbox. Thank you\, and good luck!!
URL:https://uo.com/event/chessy-fishing-contest-4/
LOCATION:Chesapeake
CATEGORIES:EM Event
END:VEVENT
BEGIN:VEVENT
DTSTART;TZID=America/Los_Angeles:20160909T190000
DTEND;TZID=America/Los_Angeles:20160909T200000
DTSTAMP:20260423T025611
CREATED:20160902T025420Z
LAST-MODIFIED:20160902T025450Z
UID:10681-1473447600-1473451200@uo.com
SUMMARY:Origin ~ Old Style Dungeon Crawl! #18
DESCRIPTION:
URL:https://uo.com/event/origin-old-style-dungeon-crawl-18/
LOCATION:Luna Stables (meet at)
CATEGORIES:EM Event
END:VEVENT
BEGIN:VEVENT
DTSTART;TZID=Asia/Tokyo:20160909T220000
DTEND;TZID=Asia/Tokyo:20160909T220000
DTSTAMP:20260423T025611
CREATED:20160813T180525Z
LAST-MODIFIED:20160813T180720Z
UID:10576-1473458400-1473458400@uo.com
SUMMARY:Mizuho - Mini Event
DESCRIPTION:TBD
URL:https://uo.com/event/mizuho-mini-event-2/
LOCATION:TBD
CATEGORIES:EM Event
END:VEVENT
BEGIN:VEVENT
DTSTART;TZID=America/New_York:20160909T220000
DTEND;TZID=America/New_York:20160909T220000
DTSTAMP:20260423T025611
CREATED:20160815T182716Z
LAST-MODIFIED:20160815T183110Z
UID:10585-1473458400-1473458400@uo.com
SUMMARY:Izumo - Event
DESCRIPTION:TBD
URL:https://uo.com/event/izumo-event/
CATEGORIES:EM Event
END:VEVENT
END:VCALENDAR