BEGIN:VCALENDAR
VERSION:2.0
PRODID:-//Ultima Online - ECPv5.16.4.1//NONSGML v1.0//EN
CALSCALE:GREGORIAN
METHOD:PUBLISH
X-WR-CALNAME:Ultima Online
X-ORIGINAL-URL:https://uo.com
X-WR-CALDESC:Events for Ultima Online
BEGIN:VTIMEZONE
TZID:America/New_York
BEGIN:DAYLIGHT
TZOFFSETFROM:-0500
TZOFFSETTO:-0400
TZNAME:EDT
DTSTART:20160313T070000
END:DAYLIGHT
BEGIN:STANDARD
TZOFFSETFROM:-0400
TZOFFSETTO:-0500
TZNAME:EST
DTSTART:20161106T060000
END:STANDARD
TZID:America/Los_Angeles
BEGIN:DAYLIGHT
TZOFFSETFROM:-0800
TZOFFSETTO:-0700
TZNAME:PDT
DTSTART:20160313T100000
END:DAYLIGHT
BEGIN:STANDARD
TZOFFSETFROM:-0700
TZOFFSETTO:-0800
TZNAME:PST
DTSTART:20161106T090000
END:STANDARD
TZID:Australia/Sydney
BEGIN:STANDARD
TZOFFSETFROM:+1100
TZOFFSETTO:+1000
TZNAME:AEST
DTSTART:20160402T160000
END:STANDARD
BEGIN:DAYLIGHT
TZOFFSETFROM:+1000
TZOFFSETTO:+1100
TZNAME:AEDT
DTSTART:20161001T160000
END:DAYLIGHT
TZID:Asia/Tokyo
BEGIN:STANDARD
TZOFFSETFROM:+0900
TZOFFSETTO:+0900
TZNAME:JST
DTSTART:20160101T000000
END:STANDARD
END:VTIMEZONE
BEGIN:VEVENT
DTSTART;TZID=America/New_York:20160906T000500
DTEND;TZID=America/New_York:20160919T235500
DTSTAMP:20260423T024920
CREATED:20160912T182924Z
LAST-MODIFIED:20160912T182924Z
UID:10804-1473120300-1474329300@uo.com
SUMMARY:Chessy Fishing Contest
DESCRIPTION:This month:  Rainbow fish. Please drop off your submission/s at the HoC mailbox. Thank you\, and good luck!!
URL:https://uo.com/event/chessy-fishing-contest-4/
LOCATION:Chesapeake
CATEGORIES:EM Event
END:VEVENT
BEGIN:VEVENT
DTSTART;TZID=America/Los_Angeles:20160914T190000
DTEND;TZID=America/Los_Angeles:20160914T200000
DTSTAMP:20260423T024920
CREATED:20160907T014210Z
LAST-MODIFIED:20160907T014430Z
UID:10731-1473879600-1473883200@uo.com
SUMMARY:Baja - The Crimson Constrain
DESCRIPTION:Francis of Vesper needs your help in putting an end to Mikhail the Fence\, and the Crimson Dagger!
URL:https://uo.com/event/the-crimson-constrain/
LOCATION:Meet At Counselor Hall
CATEGORIES:EM Event
END:VEVENT
BEGIN:VEVENT
DTSTART;TZID=Australia/Sydney:20160914T200000
DTEND;TZID=Australia/Sydney:20160914T210000
DTSTAMP:20260423T024920
CREATED:20160902T104323Z
LAST-MODIFIED:20160902T104346Z
UID:10692-1473883200-1473886800@uo.com
SUMMARY:Oceania - Deceit Run and Mini Fight!
DESCRIPTION:Are you the fastest heroe of Oceania? gather at EM Hall 9 PM AEST \, be ready to run…and FIGHT!!!! \n9 PM AEST
URL:https://uo.com/event/oceania-deceit-run-and-mini-fight/
LOCATION:Oceania
CATEGORIES:EM Event
END:VEVENT
BEGIN:VEVENT
DTSTART;TZID=Asia/Tokyo:20160914T220000
DTEND;TZID=Asia/Tokyo:20160914T230000
DTSTAMP:20260423T024920
CREATED:20160912T151335Z
LAST-MODIFIED:20160912T151344Z
UID:10800-1473890400-1473894000@uo.com
SUMMARY:Hokuto-The Sing
DESCRIPTION:こんにちは、私は王室広報官のRiccoです。 \n今回はEdward Giefreat傭兵団のFogoさんから依頼です。 \n最近ブリタニア各地で起こっている不思議な現象の調査を手伝ってほしいとの事です。 \nStart Point：Britain Bank  9/14/2016 10pm.（JST) Start
URL:https://uo.com/event/hokuto-the-sing/
LOCATION:Hokuto
CATEGORIES:EM Event
END:VEVENT
BEGIN:VEVENT
DTSTART;TZID=America/New_York:20160914T220000
DTEND;TZID=America/New_York:20160914T220000
DTSTAMP:20260423T024920
CREATED:20160914T102024Z
LAST-MODIFIED:20160914T102024Z
UID:10828-1473890400-1473890400@uo.com
SUMMARY:Izumo – The Council Meeting with the King
DESCRIPTION:Venue: Castle Blackthorn
URL:https://uo.com/event/izumo-the-council-meeting-with-the-king-6/
CATEGORIES:EM Event
END:VEVENT
END:VCALENDAR