BEGIN:VCALENDAR
VERSION:2.0
PRODID:-//Ultima Online - ECPv5.16.4.1//NONSGML v1.0//EN
CALSCALE:GREGORIAN
METHOD:PUBLISH
X-WR-CALNAME:Ultima Online
X-ORIGINAL-URL:https://uo.com
X-WR-CALDESC:Events for Ultima Online
BEGIN:VTIMEZONE
TZID:America/New_York
BEGIN:DAYLIGHT
TZOFFSETFROM:-0500
TZOFFSETTO:-0400
TZNAME:EDT
DTSTART:20160313T070000
END:DAYLIGHT
BEGIN:STANDARD
TZOFFSETFROM:-0400
TZOFFSETTO:-0500
TZNAME:EST
DTSTART:20161106T060000
END:STANDARD
TZID:America/Los_Angeles
BEGIN:DAYLIGHT
TZOFFSETFROM:-0800
TZOFFSETTO:-0700
TZNAME:PDT
DTSTART:20160313T100000
END:DAYLIGHT
BEGIN:STANDARD
TZOFFSETFROM:-0700
TZOFFSETTO:-0800
TZNAME:PST
DTSTART:20161106T090000
END:STANDARD
TZID:Europe/London
BEGIN:DAYLIGHT
TZOFFSETFROM:+0000
TZOFFSETTO:+0100
TZNAME:BST
DTSTART:20160327T010000
END:DAYLIGHT
BEGIN:STANDARD
TZOFFSETFROM:+0100
TZOFFSETTO:+0000
TZNAME:GMT
DTSTART:20161030T010000
END:STANDARD
END:VTIMEZONE
BEGIN:VEVENT
DTSTART;TZID=America/New_York:20160906T000500
DTEND;TZID=America/New_York:20160919T235500
DTSTAMP:20260423T025604
CREATED:20160912T182924Z
LAST-MODIFIED:20160912T182924Z
UID:10804-1473120300-1474329300@uo.com
SUMMARY:Chessy Fishing Contest
DESCRIPTION:This month:  Rainbow fish. Please drop off your submission/s at the HoC mailbox. Thank you\, and good luck!!
URL:https://uo.com/event/chessy-fishing-contest-4/
LOCATION:Chesapeake
CATEGORIES:EM Event
END:VEVENT
BEGIN:VEVENT
DTSTART;TZID=America/New_York:20160915T150000
DTEND;TZID=America/New_York:20160915T160000
DTSTAMP:20260423T025604
CREATED:20160902T012707Z
LAST-MODIFIED:20160902T012707Z
UID:10679-1473951600-1473955200@uo.com
SUMMARY:Siege Perilous - 3pm East @ EM Hall
DESCRIPTION:
URL:https://uo.com/event/siege-perilous-3pm-east-em-hall/
CATEGORIES:EM Event
END:VEVENT
BEGIN:VEVENT
DTSTART;TZID=America/Los_Angeles:20160915T190000
DTEND;TZID=America/Los_Angeles:20160915T200000
DTSTAMP:20260423T025604
CREATED:20160909T161127Z
LAST-MODIFIED:20160909T161127Z
UID:10775-1473966000-1473969600@uo.com
SUMMARY:*Pacific* Kings Meeting
DESCRIPTION:
URL:https://uo.com/event/pacific-kings-meeting-5/
LOCATION:Castle Blackthorn Governors Hall
CATEGORIES:EM Event
END:VEVENT
BEGIN:VEVENT
DTSTART;TZID=America/New_York:20160915T200000
DTEND;TZID=America/New_York:20160915T210000
DTSTAMP:20260423T025604
CREATED:20160830T221703Z
LAST-MODIFIED:20160830T221703Z
UID:10633-1473969600-1473973200@uo.com
SUMMARY:Legends - The Collector Part 1
DESCRIPTION:On  Thursday\, September 15th at 8:00 PM EST\, meet Commander Forthwin at Castle Blackthorn.
URL:https://uo.com/event/legends-the-collector-part-1/
LOCATION:Legends
CATEGORIES:EM Event
END:VEVENT
BEGIN:VEVENT
DTSTART;TZID=Europe/London:20160915T203000
DTEND;TZID=Europe/London:20160915T213000
DTSTAMP:20260423T025604
CREATED:20160902T102123Z
LAST-MODIFIED:20160911T221011Z
UID:10687-1473971400-1473975000@uo.com
SUMMARY:Europa - Fear The Mad King - Felucca PvP Event
DESCRIPTION:Are you brave enough to challenge the Mad King? He is waiting for you …. \nBefore attending the event double check your insurance\, be prepared to fight and ….steal!!!!
URL:https://uo.com/event/europa-fear-the-mad-king-felucca-pvp-event/
CATEGORIES:EM Event
END:VEVENT
BEGIN:VEVENT
DTSTART;TZID=America/New_York:20160915T210000
DTEND;TZID=America/New_York:20160915T220000
DTSTAMP:20260423T025604
CREATED:20160909T041745Z
LAST-MODIFIED:20160909T041942Z
UID:10771-1473973200-1473976800@uo.com
SUMMARY:Lake Austin - World Tour
DESCRIPTION:The residents of Lake Austin take EM Topaz on a Tour of Homes. We will see some of the coolest places on the shard and talk to the locals about house deco\, shard deco\, and those special past events LA has had! . If you have a special spot or would like to show off your home please deliver a rune to the mailbox at the reward hall.\nSee you at 8pm Central Time!
URL:https://uo.com/event/lake-austin-world-tour/
CATEGORIES:EM Event
END:VEVENT
END:VCALENDAR