BEGIN:VCALENDAR
VERSION:2.0
PRODID:-//Ultima Online - ECPv5.16.4.1//NONSGML v1.0//EN
CALSCALE:GREGORIAN
METHOD:PUBLISH
X-WR-CALNAME:Ultima Online
X-ORIGINAL-URL:https://uo.com
X-WR-CALDESC:Events for Ultima Online
BEGIN:VTIMEZONE
TZID:America/Los_Angeles
BEGIN:DAYLIGHT
TZOFFSETFROM:-0800
TZOFFSETTO:-0700
TZNAME:PDT
DTSTART:20160313T100000
END:DAYLIGHT
BEGIN:STANDARD
TZOFFSETFROM:-0700
TZOFFSETTO:-0800
TZNAME:PST
DTSTART:20161106T090000
END:STANDARD
TZID:Asia/Tokyo
BEGIN:STANDARD
TZOFFSETFROM:+0900
TZOFFSETTO:+0900
TZNAME:JST
DTSTART:20160101T000000
END:STANDARD
TZID:America/New_York
BEGIN:DAYLIGHT
TZOFFSETFROM:-0500
TZOFFSETTO:-0400
TZNAME:EDT
DTSTART:20160313T070000
END:DAYLIGHT
BEGIN:STANDARD
TZOFFSETFROM:-0400
TZOFFSETTO:-0500
TZNAME:EST
DTSTART:20161106T060000
END:STANDARD
END:VTIMEZONE
BEGIN:VEVENT
DTSTART;TZID=America/Los_Angeles:20160923T190000
DTEND;TZID=America/Los_Angeles:20160923T200000
DTSTAMP:20260423T025000
CREATED:20160907T014634Z
LAST-MODIFIED:20160907T014634Z
UID:10737-1474657200-1474660800@uo.com
SUMMARY:Baja - September Governors Meeting
DESCRIPTION:Monthly Governors Meeting! All are welcome!
URL:https://uo.com/event/baja-september-governors-meeting/
LOCATION:Blackthorn Castle
CATEGORIES:EM Event
END:VEVENT
BEGIN:VEVENT
DTSTART;TZID=America/Los_Angeles:20160923T190000
DTEND;TZID=America/Los_Angeles:20160923T200000
DTSTAMP:20260423T025000
CREATED:20160919T152516Z
LAST-MODIFIED:20160919T152516Z
UID:10850-1474657200-1474660800@uo.com
SUMMARY:Origin ~ Have Gear Will Travel #15: 'The Desert Ship' *FELUCCA*
DESCRIPTION:
URL:https://uo.com/event/origin-have-gear-will-travel-15-the-desert-ship-felucca/
CATEGORIES:EM Event
END:VEVENT
BEGIN:VEVENT
DTSTART;TZID=Asia/Tokyo:20160923T220000
DTEND;TZID=Asia/Tokyo:20160923T220000
DTSTAMP:20260423T025000
CREATED:20160813T181328Z
LAST-MODIFIED:20160813T181328Z
UID:10579-1474668000-1474668000@uo.com
SUMMARY:Mizuho - The Council Meeting with the King
DESCRIPTION:Venue: Castle Blackthorn
URL:https://uo.com/event/mizuho-the-council-meeting-with-the-king-4/
LOCATION:Castle Blackthorn
CATEGORIES:EM Event
END:VEVENT
BEGIN:VEVENT
DTSTART;TZID=America/New_York:20160923T220000
DTEND;TZID=America/New_York:20160923T220000
DTSTAMP:20260423T025000
CREATED:20160815T183030Z
LAST-MODIFIED:20160815T183030Z
UID:10587-1474668000-1474668000@uo.com
SUMMARY:Izumo – The Council Meeting with the King
DESCRIPTION:Venue: Castle Blackthorn
URL:https://uo.com/event/izumo-the-council-meeting-with-the-king-5/
CATEGORIES:EM Event
END:VEVENT
END:VCALENDAR