BEGIN:VCALENDAR
VERSION:2.0
PRODID:-//Ultima Online - ECPv5.16.4.1//NONSGML v1.0//EN
CALSCALE:GREGORIAN
METHOD:PUBLISH
X-WR-CALNAME:Ultima Online
X-ORIGINAL-URL:https://uo.com
X-WR-CALDESC:Events for Ultima Online
BEGIN:VTIMEZONE
TZID:America/Los_Angeles
BEGIN:DAYLIGHT
TZOFFSETFROM:-0800
TZOFFSETTO:-0700
TZNAME:PDT
DTSTART:20160313T100000
END:DAYLIGHT
BEGIN:STANDARD
TZOFFSETFROM:-0700
TZOFFSETTO:-0800
TZNAME:PST
DTSTART:20161106T090000
END:STANDARD
TZID:America/New_York
BEGIN:DAYLIGHT
TZOFFSETFROM:-0500
TZOFFSETTO:-0400
TZNAME:EDT
DTSTART:20160313T070000
END:DAYLIGHT
BEGIN:STANDARD
TZOFFSETFROM:-0400
TZOFFSETTO:-0500
TZNAME:EST
DTSTART:20161106T060000
END:STANDARD
TZID:Europe/Berlin
BEGIN:DAYLIGHT
TZOFFSETFROM:+0100
TZOFFSETTO:+0200
TZNAME:CEST
DTSTART:20160327T010000
END:DAYLIGHT
BEGIN:STANDARD
TZOFFSETFROM:+0200
TZOFFSETTO:+0100
TZNAME:CET
DTSTART:20161030T010000
END:STANDARD
TZID:Europe/London
BEGIN:DAYLIGHT
TZOFFSETFROM:+0000
TZOFFSETTO:+0100
TZNAME:BST
DTSTART:20160327T010000
END:DAYLIGHT
BEGIN:STANDARD
TZOFFSETFROM:+0100
TZOFFSETTO:+0000
TZNAME:GMT
DTSTART:20161030T010000
END:STANDARD
TZID:Asia/Tokyo
BEGIN:STANDARD
TZOFFSETFROM:+0900
TZOFFSETTO:+0900
TZNAME:JST
DTSTART:20160101T000000
END:STANDARD
END:VTIMEZONE
BEGIN:VEVENT
DTSTART;TZID=America/Los_Angeles:20160925T170000
DTEND;TZID=America/Los_Angeles:20160925T180000
DTSTAMP:20260423T025538
CREATED:20160908T104953Z
LAST-MODIFIED:20160908T104953Z
UID:10750-1474822800-1474826400@uo.com
SUMMARY:Napa Valley - Governor’s Meeting
DESCRIPTION:
URL:https://uo.com/event/napa-valley-governors-meeting-10/
CATEGORIES:EM Event
END:VEVENT
BEGIN:VEVENT
DTSTART;TZID=America/New_York:20160925T200000
DTEND;TZID=America/New_York:20160925T200000
DTSTAMP:20260423T025538
CREATED:20160902T012532Z
LAST-MODIFIED:20160902T012532Z
UID:10675-1474833600-1474833600@uo.com
SUMMARY:Atlantic - 8pm East @ Conseil du Roi
DESCRIPTION:
URL:https://uo.com/event/atlantic-8pm-east-conseil-du-roi-5/
CATEGORIES:EM Event
END:VEVENT
BEGIN:VEVENT
DTSTART;TZID=America/New_York:20160925T200000
DTEND;TZID=America/New_York:20160925T210000
DTSTAMP:20260423T025538
CREATED:20160912T212943Z
LAST-MODIFIED:20160912T212943Z
UID:10810-1474833600-1474837200@uo.com
SUMMARY:Chessy Round and Round we GO!!
DESCRIPTION:Come explore some role play\, adventure\, and travel.
URL:https://uo.com/event/chessy-round-and-round-we-go/
LOCATION:Chesapeake
CATEGORIES:EM Event
END:VEVENT
BEGIN:VEVENT
DTSTART;TZID=Europe/Berlin:20160925T203000
DTEND;TZID=Europe/Berlin:20160925T213000
DTSTAMP:20260423T025538
CREATED:20160901T063839Z
LAST-MODIFIED:20160901T063839Z
UID:10654-1474835400-1474839000@uo.com
SUMMARY:Drachenfels: Royal Audience | Königliche Audienz
DESCRIPTION:Time: 8:30pm CEST (UTC+2).  Location: Castle Blackthorn\, Britain\, Trammel.\nA Royal Audience will be held. Afterwards a HoF (RP) Mission will follow. \n \nZeit: 20:30 Uhr CEST (UTC+2). Ort: Schloss Blackthorn\, Britain\, Trammel.\nEine Königliche Audienz wird abgehalten. Danach findet eine HoF (RP) Mission statt.
URL:https://uo.com/event/drachenfels-royal-audience-konigliche-audienz-6/
LOCATION:Drachenfels
CATEGORIES:EM Event
END:VEVENT
BEGIN:VEVENT
DTSTART;TZID=Europe/London:20160925T203000
DTEND;TZID=Europe/London:20160925T210000
DTSTAMP:20260423T025538
CREATED:20160919T184208Z
LAST-MODIFIED:20160920T153851Z
UID:10854-1474835400-1474837200@uo.com
SUMMARY:Europa ^ The Kings' Gathering
DESCRIPTION:
URL:https://uo.com/event/europa-the-kings-gathering/
LOCATION:Blackthorn Castle meeting room
CATEGORIES:EM Event
END:VEVENT
BEGIN:VEVENT
DTSTART;TZID=Europe/London:20160925T210000
DTEND;TZID=Europe/London:20160925T220000
DTSTAMP:20260423T025538
CREATED:20160920T153732Z
LAST-MODIFIED:20160920T153732Z
UID:10864-1474837200-1474840800@uo.com
SUMMARY:Europa ^ Royal Guard Conference
DESCRIPTION:
URL:https://uo.com/event/europa-royal-guard-conference/
LOCATION:Blackthorn Castle meeting room
CATEGORIES:EM Event
END:VEVENT
BEGIN:VEVENT
DTSTART;TZID=Asia/Tokyo:20160925T220000
DTEND;TZID=Asia/Tokyo:20160925T220000
DTSTAMP:20260423T025538
CREATED:20160813T181426Z
LAST-MODIFIED:20160813T181426Z
UID:10580-1474840800-1474840800@uo.com
SUMMARY:Mizuho - Event
DESCRIPTION:TBD
URL:https://uo.com/event/mizuho-event/
LOCATION:TBD
CATEGORIES:EM Event
END:VEVENT
BEGIN:VEVENT
DTSTART;TZID=Asia/Tokyo:20160925T220000
DTEND;TZID=Asia/Tokyo:20160925T220000
DTSTAMP:20260423T025538
CREATED:20160830T013611Z
LAST-MODIFIED:20160830T013611Z
UID:10631-1474840800-1474840800@uo.com
SUMMARY:Sakura - The Council Meeting With The  King
DESCRIPTION:The monthly governor’s meeting with King Blackthorn.\nEveryone are invited.
URL:https://uo.com/event/sakura-the-council-meeting-with-the-king-9/
LOCATION:Castle Blackthorn
CATEGORIES:EM Event
END:VEVENT
END:VCALENDAR