BEGIN:VCALENDAR
VERSION:2.0
PRODID:-//Ultima Online - ECPv5.16.4.1//NONSGML v1.0//EN
CALSCALE:GREGORIAN
METHOD:PUBLISH
X-WR-CALNAME:Ultima Online
X-ORIGINAL-URL:https://uo.com
X-WR-CALDESC:Events for Ultima Online
BEGIN:VTIMEZONE
TZID:America/Chicago
BEGIN:DAYLIGHT
TZOFFSETFROM:-0600
TZOFFSETTO:-0500
TZNAME:CDT
DTSTART:20160313T080000
END:DAYLIGHT
BEGIN:STANDARD
TZOFFSETFROM:-0500
TZOFFSETTO:-0600
TZNAME:CST
DTSTART:20161106T070000
END:STANDARD
END:VTIMEZONE
BEGIN:VEVENT
DTSTART;TZID=America/Chicago:20161005T200000
DTEND;TZID=America/Chicago:20161005T200000
DTSTAMP:20260423T005032
CREATED:20161001T152805Z
LAST-MODIFIED:20161001T152805Z
UID:10961-1475697600-1475697600@uo.com
SUMMARY:The Neophyte Tamer
DESCRIPTION:A young overly ambitious tamer has bitten off more than he can swallow when he finds the dangerous beasts he purchased too difficult to control.  Please join him at 8pm CST to help capture the escaped creatures before they lay waste to all of Britannia!\n\nMeet at the EM Hall In Britian
URL:https://uo.com/event/the-neophyte-tamer/
LOCATION:Lake Superior
CATEGORIES:EM Event
END:VEVENT
END:VCALENDAR