BEGIN:VCALENDAR
VERSION:2.0
PRODID:-//Ultima Online - ECPv5.16.4.1//NONSGML v1.0//EN
CALSCALE:GREGORIAN
METHOD:PUBLISH
X-WR-CALNAME:Ultima Online
X-ORIGINAL-URL:https://uo.com
X-WR-CALDESC:Events for Ultima Online
BEGIN:VTIMEZONE
TZID:Europe/London
BEGIN:DAYLIGHT
TZOFFSETFROM:+0000
TZOFFSETTO:+0100
TZNAME:BST
DTSTART:20160327T010000
END:DAYLIGHT
BEGIN:STANDARD
TZOFFSETFROM:+0100
TZOFFSETTO:+0000
TZNAME:GMT
DTSTART:20161030T010000
END:STANDARD
END:VTIMEZONE
BEGIN:VEVENT
DTSTART;TZID=Europe/London:20161006T203000
DTEND;TZID=Europe/London:20161006T203000
DTSTAMP:20260423T004946
CREATED:20161003T140451Z
LAST-MODIFIED:20161004T132805Z
UID:10993-1475785800-1475785800@uo.com
SUMMARY:Europa ^ Beyond the Myth ~ Tale 2
DESCRIPTION:
URL:https://uo.com/event/europa-beyond-the-myth-tale-2/
LOCATION:EM Counselor Hall (Britain)
CATEGORIES:EM Event
END:VEVENT
END:VCALENDAR