BEGIN:VCALENDAR
VERSION:2.0
PRODID:-//Ultima Online - ECPv5.16.4.1//NONSGML v1.0//EN
CALSCALE:GREGORIAN
METHOD:PUBLISH
X-WR-CALNAME:Ultima Online
X-ORIGINAL-URL:https://uo.com
X-WR-CALDESC:Events for Ultima Online
BEGIN:VTIMEZONE
TZID:America/Chicago
BEGIN:DAYLIGHT
TZOFFSETFROM:-0600
TZOFFSETTO:-0500
TZNAME:CDT
DTSTART:20160313T080000
END:DAYLIGHT
BEGIN:STANDARD
TZOFFSETFROM:-0500
TZOFFSETTO:-0600
TZNAME:CST
DTSTART:20161106T070000
END:STANDARD
TZID:Asia/Tokyo
BEGIN:STANDARD
TZOFFSETFROM:+0900
TZOFFSETTO:+0900
TZNAME:JST
DTSTART:20160101T000000
END:STANDARD
TZID:America/New_York
BEGIN:DAYLIGHT
TZOFFSETFROM:-0500
TZOFFSETTO:-0400
TZNAME:EDT
DTSTART:20160313T070000
END:DAYLIGHT
BEGIN:STANDARD
TZOFFSETFROM:-0400
TZOFFSETTO:-0500
TZNAME:EST
DTSTART:20161106T060000
END:STANDARD
END:VTIMEZONE
BEGIN:VEVENT
DTSTART;TZID=America/Chicago:20161008T190000
DTEND;TZID=America/Chicago:20161008T200000
DTSTAMP:20260423T004947
CREATED:20161004T204501Z
LAST-MODIFIED:20161004T205009Z
UID:11005-1475953200-1475956800@uo.com
SUMMARY:Lake Austin - "Shard Hunt" 7PM CDT
DESCRIPTION:Lake Austin Shard Hunt \nEveryone is invited to join! Destination Unknown and TBA \nMeet at the EM Hall at 7PM Central Time
URL:https://uo.com/event/lake-austin-shard-hunt-7pm-cdt/
CATEGORIES:EM Event
END:VEVENT
BEGIN:VEVENT
DTSTART;TZID=Asia/Tokyo:20161008T220000
DTEND;TZID=Asia/Tokyo:20161008T220000
DTSTAMP:20260423T004947
CREATED:20160911T114955Z
LAST-MODIFIED:20161002T040819Z
UID:10783-1475964000-1475964000@uo.com
SUMMARY:Yamato - Jour des sports
DESCRIPTION:Meet Nathan the lazy boy at Nujel’m EM Hall. \nHe has something to ask you! Be prepared to combat.
URL:https://uo.com/event/yamato-jour-des-sports/
LOCATION:Nujel’m Palace
CATEGORIES:EM Event
END:VEVENT
BEGIN:VEVENT
DTSTART;TZID=America/New_York:20161008T220000
DTEND;TZID=America/New_York:20161008T220000
DTSTAMP:20260423T004947
CREATED:20160914T101749Z
LAST-MODIFIED:20160914T101749Z
UID:10824-1475964000-1475964000@uo.com
SUMMARY:Izumo - mini Event
DESCRIPTION:TBD
URL:https://uo.com/event/izumo-mini-event/
CATEGORIES:EM Event
END:VEVENT
END:VCALENDAR