BEGIN:VCALENDAR
VERSION:2.0
PRODID:-//Ultima Online - ECPv5.16.4.1//NONSGML v1.0//EN
CALSCALE:GREGORIAN
METHOD:PUBLISH
X-WR-CALNAME:Ultima Online
X-ORIGINAL-URL:https://uo.com
X-WR-CALDESC:Events for Ultima Online
BEGIN:VTIMEZONE
TZID:America/New_York
BEGIN:DAYLIGHT
TZOFFSETFROM:-0500
TZOFFSETTO:-0400
TZNAME:EDT
DTSTART:20160313T070000
END:DAYLIGHT
BEGIN:STANDARD
TZOFFSETFROM:-0400
TZOFFSETTO:-0500
TZNAME:EST
DTSTART:20161106T060000
END:STANDARD
TZID:Europe/Berlin
BEGIN:DAYLIGHT
TZOFFSETFROM:+0100
TZOFFSETTO:+0200
TZNAME:CEST
DTSTART:20160327T010000
END:DAYLIGHT
BEGIN:STANDARD
TZOFFSETFROM:+0200
TZOFFSETTO:+0100
TZNAME:CET
DTSTART:20161030T010000
END:STANDARD
TZID:Asia/Tokyo
BEGIN:STANDARD
TZOFFSETFROM:+0900
TZOFFSETTO:+0900
TZNAME:JST
DTSTART:20160101T000000
END:STANDARD
END:VTIMEZONE
BEGIN:VEVENT
DTSTART;TZID=America/New_York:20161010T190000
DTEND;TZID=America/New_York:20161010T210000
DTSTAMP:20260423T005031
CREATED:20161008T221357Z
LAST-MODIFIED:20161008T221357Z
UID:11479-1476126000-1476133200@uo.com
SUMMARY:Catskills - The Forgotten
DESCRIPTION:Ur’kal has been looking for his missing allies among the Frozen Skull Clan. \n(RP Heavy)
URL:https://uo.com/event/catskills-the-forgotten-6/
LOCATION:Catskills
CATEGORIES:EM Event
END:VEVENT
BEGIN:VEVENT
DTSTART;TZID=Europe/Berlin:20161010T203000
DTEND;TZID=Europe/Berlin:20161010T213000
DTSTAMP:20260423T005031
CREATED:20160929T070519Z
LAST-MODIFIED:20160929T070519Z
UID:10944-1476131400-1476135000@uo.com
SUMMARY:Drachenfels: Dark Sosarian Sky Festival
DESCRIPTION:Time: 8:30pm CEST (UTC+2).  Location: Luna Fairgrounds\, Malas.\nMain Event (RP): Two days of HoF Events – Garina Mamba like to celebrate the beautiful autumnal weather and colors with you. There will be plenty of games and food (and of course\, also drinks)! \nZeit: 20:30 Uhr CEST (UTC+2). Ort: Luna Festgelände\, Malas.\nMain Event (RP): Zwei Tage HoF Events – Garina Mamba möchte mit euch das wunderschön herbstliche Wetter und Farben mit euch feiern. Es wird genug Spiele und Essen geben (und natürlich auch Drinks)!
URL:https://uo.com/event/drachenfels-dark-sosarian-sky-festival-2/
LOCATION:Drachenfels
CATEGORIES:EM Event
END:VEVENT
BEGIN:VEVENT
DTSTART;TZID=Asia/Tokyo:20161010T220000
DTEND;TZID=Asia/Tokyo:20161010T230000
DTSTAMP:20260423T005031
CREATED:20160922T141807Z
LAST-MODIFIED:20161008T150338Z
UID:10884-1476136800-1476140400@uo.com
SUMMARY:Hokuto-Event(Mini)Dungeon Master Quiz
DESCRIPTION:ダンジョンマスターへの道 第二弾となります。 \n今回はブラックソンダンジョン \nStart point：EM hall (Nujelm) 10/10/2016 – 10pm(JST) \n 
URL:https://uo.com/event/hokuto-eventmini/
LOCATION:Hokuto
CATEGORIES:EM Event
END:VEVENT
END:VCALENDAR