BEGIN:VCALENDAR
VERSION:2.0
PRODID:-//Ultima Online - ECPv5.16.4.1//NONSGML v1.0//EN
CALSCALE:GREGORIAN
METHOD:PUBLISH
X-WR-CALNAME:Ultima Online
X-ORIGINAL-URL:https://uo.com
X-WR-CALDESC:Events for Ultima Online
BEGIN:VTIMEZONE
TZID:America/New_York
BEGIN:DAYLIGHT
TZOFFSETFROM:-0500
TZOFFSETTO:-0400
TZNAME:EDT
DTSTART:20160313T070000
END:DAYLIGHT
BEGIN:STANDARD
TZOFFSETFROM:-0400
TZOFFSETTO:-0500
TZNAME:EST
DTSTART:20161106T060000
END:STANDARD
TZID:America/Los_Angeles
BEGIN:DAYLIGHT
TZOFFSETFROM:-0800
TZOFFSETTO:-0700
TZNAME:PDT
DTSTART:20160313T100000
END:DAYLIGHT
BEGIN:STANDARD
TZOFFSETFROM:-0700
TZOFFSETTO:-0800
TZNAME:PST
DTSTART:20161106T090000
END:STANDARD
TZID:Europe/Berlin
BEGIN:DAYLIGHT
TZOFFSETFROM:+0100
TZOFFSETTO:+0200
TZNAME:CEST
DTSTART:20160327T010000
END:DAYLIGHT
BEGIN:STANDARD
TZOFFSETFROM:+0200
TZOFFSETTO:+0100
TZNAME:CET
DTSTART:20161030T010000
END:STANDARD
TZID:Asia/Tokyo
BEGIN:STANDARD
TZOFFSETFROM:+0900
TZOFFSETTO:+0900
TZNAME:JST
DTSTART:20160101T000000
END:STANDARD
END:VTIMEZONE
BEGIN:VEVENT
DTSTART;TZID=America/New_York:20161011T000500
DTEND;TZID=America/New_York:20161024T235500
DTSTAMP:20260423T005057
CREATED:20161014T021245Z
LAST-MODIFIED:20161014T021245Z
UID:11667-1476144300-1477353300@uo.com
SUMMARY:Chesapeake monthly fishing Event
DESCRIPTION:This month’s fish is:  Fairy Salmon
URL:https://uo.com/event/chesapeake-monthly-fishing-event/
LOCATION:Chesapeake
CATEGORIES:EM Event
END:VEVENT
BEGIN:VEVENT
DTSTART;TZID=America/Los_Angeles:20161016T180000
DTEND;TZID=America/Los_Angeles:20161016T183000
DTSTAMP:20260423T005057
CREATED:20161004T165608Z
LAST-MODIFIED:20161004T165608Z
UID:10998-1476640800-1476642600@uo.com
SUMMARY:Origin ~ Meeting with King Blackthorn
DESCRIPTION:
URL:https://uo.com/event/origin-meeting-with-king-blackthorn-10/
LOCATION:Blackthorn Castle meeting room
CATEGORIES:EM Event
END:VEVENT
BEGIN:VEVENT
DTSTART;TZID=America/Los_Angeles:20161016T183000
DTEND;TZID=America/Los_Angeles:20161016T193000
DTSTAMP:20260423T005057
CREATED:20161004T171200Z
LAST-MODIFIED:20161004T171321Z
UID:11000-1476642600-1476646200@uo.com
SUMMARY:Origin ~ O.R.G. Boot Camp XIII (Fall Session I)
DESCRIPTION:
URL:https://uo.com/event/o-r-g-boot-camp-xiii-fall-session-i/
LOCATION:O.R.G. Training Grounds (Malas)
CATEGORIES:EM Event
END:VEVENT
BEGIN:VEVENT
DTSTART;TZID=America/New_York:20161016T200000
DTEND;TZID=America/New_York:20161016T210000
DTSTAMP:20260423T005057
CREATED:20161014T021621Z
LAST-MODIFIED:20161014T021621Z
UID:11669-1476648000-1476651600@uo.com
SUMMARY:Chesapeake Governor Meeting
DESCRIPTION:Governors and citizens alike are welcome to attend the monthly council meeting at Castle Blackthorn.
URL:https://uo.com/event/chesapeake-governor-meeting/
LOCATION:Chesapeake
CATEGORIES:EM Event
END:VEVENT
BEGIN:VEVENT
DTSTART;TZID=Europe/Berlin:20161016T203000
DTEND;TZID=Europe/Berlin:20161016T213000
DTSTAMP:20260423T005057
CREATED:20160929T063247Z
LAST-MODIFIED:20160929T063803Z
UID:10937-1476649800-1476653400@uo.com
SUMMARY:Drachenfels: Royal Audience | Königliche Audienz
DESCRIPTION:Time: 8:30pm CEST (UTC+2).  Location: Castle Blackthorn\, Britain\, Trammel.\nA Royal Audience will be held. Afterwards a HoF (RP) Mission will follow. \n \nZeit: 20:30 Uhr CEST (UTC+2). Ort: Schloss Blackthorn\, Britain\, Trammel.\nEine Königliche Audienz wird abgehalten. Danach findet eine HoF (RP) Mission statt.
URL:https://uo.com/event/drachenfels-royal-audience-konigliche-audienz-7/
LOCATION:Drachenfels
CATEGORIES:EM Event
END:VEVENT
BEGIN:VEVENT
DTSTART;TZID=Asia/Tokyo:20161016T220000
DTEND;TZID=Asia/Tokyo:20161016T220000
DTSTAMP:20260423T005057
CREATED:20160925T125313Z
LAST-MODIFIED:20160925T125313Z
UID:10911-1476655200-1476655200@uo.com
SUMMARY:Sakura - Mini Event
DESCRIPTION:A mini event.\nTBD
URL:https://uo.com/event/sakura-mini-event/
LOCATION:Sakura – EM Hall\, Japan
CATEGORIES:EM Event
END:VEVENT
END:VCALENDAR