BEGIN:VCALENDAR
VERSION:2.0
PRODID:-//Ultima Online - ECPv5.16.4.1//NONSGML v1.0//EN
CALSCALE:GREGORIAN
METHOD:PUBLISH
X-WR-CALNAME:Ultima Online
X-ORIGINAL-URL:https://uo.com
X-WR-CALDESC:Events for Ultima Online
BEGIN:VTIMEZONE
TZID:America/New_York
BEGIN:DAYLIGHT
TZOFFSETFROM:-0500
TZOFFSETTO:-0400
TZNAME:EDT
DTSTART:20160313T070000
END:DAYLIGHT
BEGIN:STANDARD
TZOFFSETFROM:-0400
TZOFFSETTO:-0500
TZNAME:EST
DTSTART:20161106T060000
END:STANDARD
TZID:Asia/Seoul
BEGIN:STANDARD
TZOFFSETFROM:+0900
TZOFFSETTO:+0900
TZNAME:KST
DTSTART:20160101T000000
END:STANDARD
TZID:America/Chicago
BEGIN:DAYLIGHT
TZOFFSETFROM:-0600
TZOFFSETTO:-0500
TZNAME:CDT
DTSTART:20160313T080000
END:DAYLIGHT
BEGIN:STANDARD
TZOFFSETFROM:-0500
TZOFFSETTO:-0600
TZNAME:CST
DTSTART:20161106T070000
END:STANDARD
TZID:America/Los_Angeles
BEGIN:DAYLIGHT
TZOFFSETFROM:-0800
TZOFFSETTO:-0700
TZNAME:PDT
DTSTART:20160313T100000
END:DAYLIGHT
BEGIN:STANDARD
TZOFFSETFROM:-0700
TZOFFSETTO:-0800
TZNAME:PST
DTSTART:20161106T090000
END:STANDARD
TZID:Asia/Taipei
BEGIN:STANDARD
TZOFFSETFROM:+0800
TZOFFSETTO:+0800
TZNAME:CST
DTSTART:20160101T000000
END:STANDARD
TZID:Asia/Tokyo
BEGIN:STANDARD
TZOFFSETFROM:+0900
TZOFFSETTO:+0900
TZNAME:JST
DTSTART:20160101T000000
END:STANDARD
END:VTIMEZONE
BEGIN:VEVENT
DTSTART;TZID=America/New_York:20161011T000500
DTEND;TZID=America/New_York:20161024T235500
DTSTAMP:20260423T005108
CREATED:20161014T021245Z
LAST-MODIFIED:20161014T021245Z
UID:11667-1476144300-1477353300@uo.com
SUMMARY:Chesapeake monthly fishing Event
DESCRIPTION:This month’s fish is:  Fairy Salmon
URL:https://uo.com/event/chesapeake-monthly-fishing-event/
LOCATION:Chesapeake
CATEGORIES:EM Event
END:VEVENT
BEGIN:VEVENT
DTSTART;TZID=Asia/Seoul:20161022T080000
DTEND;TZID=Asia/Seoul:20161022T210000
DTSTAMP:20260423T005108
CREATED:20161014T105317Z
LAST-MODIFIED:20161014T105317Z
UID:11679-1477123200-1477170000@uo.com
SUMMARY:Arirang - Guess What I am Thinking
DESCRIPTION:Notification \nDate/Time: October 22th 2016 Saturday 20:00 KST (07:00 ET)\nMeeting Place: Britain EM Hall \nCaution! \nThis month is Guess What I am Thinking! It’s just like twenty questions but there will be slightly different in rules. Detailed rules will be announced during the event. 3 Winners’ name will be engraved to item and displayed in Reward Hall in Arirang shard. \nWarning \nIf you disrupt the event\, spamming\, insulting other players or EM will eventually make bad record to your account. Please pay attention to EM when he trying to speak something. \nEM will try to listen to you when he finished his speech. And be advised that there’s some things that EMs cannot help you with. If these behavior continue\, EM has no choice but to stop the event till it’s solved. \nEvent Chat Channel \nWe’re using Arirang EM Event during the event. Access here to communicate with EM and get some information from the other players as well. EM will not take any responsibility for missing any information because of this. (NO #!) \nThank you.
URL:https://uo.com/event/arirang-guess-what-i-am-thinking/
LOCATION:Arirang
CATEGORIES:EM Event
END:VEVENT
BEGIN:VEVENT
DTSTART;TZID=America/Chicago:20161022T190000
DTEND;TZID=America/Chicago:20161022T200000
DTSTAMP:20260423T005108
CREATED:20161004T205201Z
LAST-MODIFIED:20161004T205201Z
UID:11009-1477162800-1477166400@uo.com
SUMMARY:Lake Austin - "Governors Meeting" 7PM CDT
DESCRIPTION:Governors are asked to join the King at the Castle for the monthly meeting \n7PM CDT
URL:https://uo.com/event/lake-austin-governors-meeting-7pm-cdt/
CATEGORIES:EM Event
END:VEVENT
BEGIN:VEVENT
DTSTART;TZID=America/Los_Angeles:20161022T190000
DTEND;TZID=America/Los_Angeles:20161022T200000
DTSTAMP:20260423T005108
CREATED:20161007T003839Z
LAST-MODIFIED:20161007T003839Z
UID:11177-1477162800-1477166400@uo.com
SUMMARY:Baja - October Pet Battles
DESCRIPTION:October Pet Battles! This month’s creature is the Automaton!
URL:https://uo.com/event/baja-october-pet-battles/
LOCATION:New Haven Arena
CATEGORIES:EM Event
END:VEVENT
BEGIN:VEVENT
DTSTART;TZID=America/Chicago:20161022T200000
DTEND;TZID=America/Chicago:20161022T200000
DTSTAMP:20260423T005108
CREATED:20161003T033908Z
LAST-MODIFIED:20161003T033908Z
UID:10988-1477166400-1477166400@uo.com
SUMMARY:Great Lakes - Royal Britannian Guard
DESCRIPTION:This Royal Britannian Guard mission has the codename “Jack-in-Irons”. To attend\, go through the moongate inside the Britain Counselor Hall.
URL:https://uo.com/event/great-lakes-royal-britannian-guard-17/
LOCATION:Great Lakes – Counselor Hall
CATEGORIES:EM Event
END:VEVENT
BEGIN:VEVENT
DTSTART;TZID=Asia/Taipei:20161022T210000
DTEND;TZID=Asia/Taipei:20161022T210000
DTSTAMP:20260423T005108
CREATED:20161009T081843Z
LAST-MODIFIED:20161009T082706Z
UID:11493-1477170000-1477170000@uo.com
SUMMARY:Formosa - Cinderella and the Pumpkin Carriage
DESCRIPTION:One day\, Cinderella finds herself returned to a poor girl. \n°˖✧◝(⁰▿⁰)◜✧˖° \n*The time zone is shown in CST (China time\, UTC+8). \n*Meet Cinderella at Britain NPC house (sextant loc: 8o 36’S\, 15o 32’E). \n*A gate will be provided from Luna bank and Britain Counselor’s Guild. \n*Make sure you join the chat channel “Formosa EM event”. \n*Please note the event will be hosted mainly in English by Japanese EM. \n*We are still looking for Chinese speaking EM for Formosa. Don’t hesitate to submit your email to Mesanna! \n 
URL:https://uo.com/event/formosa-cinderella-and-the-pumpkin-carriage/
LOCATION:Britain NPC house
CATEGORIES:EM Event
END:VEVENT
BEGIN:VEVENT
DTSTART;TZID=Asia/Tokyo:20161022T220000
DTEND;TZID=Asia/Tokyo:20161022T220000
DTSTAMP:20260423T005108
CREATED:20160926T234543Z
LAST-MODIFIED:20160926T234543Z
UID:10924-1477173600-1477173600@uo.com
SUMMARY:Asuka - Event
DESCRIPTION:TBD
URL:https://uo.com/event/asuka-event-2/
CATEGORIES:EM Event
END:VEVENT
END:VCALENDAR