BEGIN:VCALENDAR
VERSION:2.0
PRODID:-//Ultima Online - ECPv5.16.4.1//NONSGML v1.0//EN
CALSCALE:GREGORIAN
METHOD:PUBLISH
X-WR-CALNAME:Ultima Online
X-ORIGINAL-URL:https://uo.com
X-WR-CALDESC:Events for Ultima Online
BEGIN:VTIMEZONE
TZID:America/New_York
BEGIN:DAYLIGHT
TZOFFSETFROM:-0500
TZOFFSETTO:-0400
TZNAME:EDT
DTSTART:20160313T070000
END:DAYLIGHT
BEGIN:STANDARD
TZOFFSETFROM:-0400
TZOFFSETTO:-0500
TZNAME:EST
DTSTART:20161106T060000
END:STANDARD
TZID:Europe/London
BEGIN:DAYLIGHT
TZOFFSETFROM:+0000
TZOFFSETTO:+0100
TZNAME:BST
DTSTART:20160327T010000
END:DAYLIGHT
BEGIN:STANDARD
TZOFFSETFROM:+0100
TZOFFSETTO:+0000
TZNAME:GMT
DTSTART:20161030T010000
END:STANDARD
TZID:Asia/Tokyo
BEGIN:STANDARD
TZOFFSETFROM:+0900
TZOFFSETTO:+0900
TZNAME:JST
DTSTART:20160101T000000
END:STANDARD
END:VTIMEZONE
BEGIN:VEVENT
DTSTART;TZID=America/New_York:20161011T000500
DTEND;TZID=America/New_York:20161024T235500
DTSTAMP:20260423T005057
CREATED:20161014T021245Z
LAST-MODIFIED:20161014T021245Z
UID:11667-1476144300-1477353300@uo.com
SUMMARY:Chesapeake monthly fishing Event
DESCRIPTION:This month’s fish is:  Fairy Salmon
URL:https://uo.com/event/chesapeake-monthly-fishing-event/
LOCATION:Chesapeake
CATEGORIES:EM Event
END:VEVENT
BEGIN:VEVENT
DTSTART;TZID=America/New_York:20161023T200000
DTEND;TZID=America/New_York:20161023T210000
DTSTAMP:20260423T005057
CREATED:20161014T022245Z
LAST-MODIFIED:20161014T022245Z
UID:11671-1477252800-1477256400@uo.com
SUMMARY:Chesapeake RBG Event
DESCRIPTION:All RBG members and aspiring members please meet at RBG headquarters.  After roll call\, the assignments will be given out.
URL:https://uo.com/event/chesapeake-rbg-event/
LOCATION:Chesapeake
CATEGORIES:EM Event
END:VEVENT
BEGIN:VEVENT
DTSTART;TZID=Europe/London:20161023T203000
DTEND;TZID=Europe/London:20161023T210000
DTSTAMP:20260423T005057
CREATED:20161017T194922Z
LAST-MODIFIED:20161020T211144Z
UID:11696-1477254600-1477256400@uo.com
SUMMARY:Europa ^ The Kings’ Gathering: Coronation Anniversary
DESCRIPTION:
URL:https://uo.com/event/europa-the-kings-gathering-coronation-anniversary/
LOCATION:Blackthorn Castle meeting room
CATEGORIES:EM Event
END:VEVENT
BEGIN:VEVENT
DTSTART;TZID=Europe/London:20161023T210000
DTEND;TZID=Europe/London:20161023T213000
DTSTAMP:20260423T005057
CREATED:20161020T211441Z
LAST-MODIFIED:20161020T211512Z
UID:11700-1477256400-1477258200@uo.com
SUMMARY:Europa ^ Royal Guard Conference
DESCRIPTION:
URL:https://uo.com/event/europa-royal-guard-conference-2/
LOCATION:Blackthorn Castle meeting room
CATEGORIES:EM Event
END:VEVENT
BEGIN:VEVENT
DTSTART;TZID=Asia/Tokyo:20161023T220000
DTEND;TZID=Asia/Tokyo:20161023T220000
DTSTAMP:20260423T005057
CREATED:20160925T124841Z
LAST-MODIFIED:20160925T124841Z
UID:10907-1477260000-1477260000@uo.com
SUMMARY:Sakura - Reunion part 5
DESCRIPTION:TBD\nChat:JapanEMevent
URL:https://uo.com/event/sakura-reunion-part-5/
LOCATION:Sakura – EM Hall\, Japan
CATEGORIES:EM Event
END:VEVENT
END:VCALENDAR