BEGIN:VCALENDAR
VERSION:2.0
PRODID:-//Ultima Online - ECPv5.16.4.1//NONSGML v1.0//EN
CALSCALE:GREGORIAN
METHOD:PUBLISH
X-WR-CALNAME:Ultima Online
X-ORIGINAL-URL:https://uo.com
X-WR-CALDESC:Events for Ultima Online
BEGIN:VTIMEZONE
TZID:America/New_York
BEGIN:DAYLIGHT
TZOFFSETFROM:-0500
TZOFFSETTO:-0400
TZNAME:EDT
DTSTART:20160313T070000
END:DAYLIGHT
BEGIN:STANDARD
TZOFFSETFROM:-0400
TZOFFSETTO:-0500
TZNAME:EST
DTSTART:20161106T060000
END:STANDARD
TZID:America/Los_Angeles
BEGIN:DAYLIGHT
TZOFFSETFROM:-0800
TZOFFSETTO:-0700
TZNAME:PDT
DTSTART:20160313T100000
END:DAYLIGHT
BEGIN:STANDARD
TZOFFSETFROM:-0700
TZOFFSETTO:-0800
TZNAME:PST
DTSTART:20161106T090000
END:STANDARD
END:VTIMEZONE
BEGIN:VEVENT
DTSTART;TZID=America/New_York:20161011T000500
DTEND;TZID=America/New_York:20161024T235500
DTSTAMP:20260423T005030
CREATED:20161014T021245Z
LAST-MODIFIED:20161014T021245Z
UID:11667-1476144300-1477353300@uo.com
SUMMARY:Chesapeake monthly fishing Event
DESCRIPTION:This month’s fish is:  Fairy Salmon
URL:https://uo.com/event/chesapeake-monthly-fishing-event/
LOCATION:Chesapeake
CATEGORIES:EM Event
END:VEVENT
BEGIN:VEVENT
DTSTART;TZID=America/New_York:20161024T070000
DTEND;TZID=America/New_York:20161024T210000
DTSTAMP:20260423T005030
CREATED:20161023T011207Z
LAST-MODIFIED:20161023T011207Z
UID:11717-1477292400-1477342800@uo.com
SUMMARY:Catskills - The Forgotten (Something Spooky!)
DESCRIPTION:Something spooky is afoot! \nJoin Haldemar as he attempts to make sense of some unusual goings ons.
URL:https://uo.com/event/catskills-the-forgotten-something-spooky/
LOCATION:Catskills
CATEGORIES:EM Event
END:VEVENT
BEGIN:VEVENT
DTSTART;TZID=America/Los_Angeles:20161024T190000
DTEND;TZID=America/Los_Angeles:20161024T200000
DTSTAMP:20260423T005030
CREATED:20161010T090902Z
LAST-MODIFIED:20161010T090902Z
UID:11561-1477335600-1477339200@uo.com
SUMMARY:Napa Valley - Lurking Below
DESCRIPTION:
URL:https://uo.com/event/napa-valley-lurking-below/
CATEGORIES:EM Event
END:VEVENT
END:VCALENDAR