BEGIN:VCALENDAR
VERSION:2.0
PRODID:-//Ultima Online - ECPv5.16.4.1//NONSGML v1.0//EN
CALSCALE:GREGORIAN
METHOD:PUBLISH
X-WR-CALNAME:Ultima Online
X-ORIGINAL-URL:https://uo.com
X-WR-CALDESC:Events for Ultima Online
BEGIN:VTIMEZONE
TZID:America/Los_Angeles
BEGIN:DAYLIGHT
TZOFFSETFROM:-0800
TZOFFSETTO:-0700
TZNAME:PDT
DTSTART:20160313T100000
END:DAYLIGHT
BEGIN:STANDARD
TZOFFSETFROM:-0700
TZOFFSETTO:-0800
TZNAME:PST
DTSTART:20161106T090000
END:STANDARD
TZID:America/New_York
BEGIN:DAYLIGHT
TZOFFSETFROM:-0500
TZOFFSETTO:-0400
TZNAME:EDT
DTSTART:20160313T070000
END:DAYLIGHT
BEGIN:STANDARD
TZOFFSETFROM:-0400
TZOFFSETTO:-0500
TZNAME:EST
DTSTART:20161106T060000
END:STANDARD
END:VTIMEZONE
BEGIN:VEVENT
DTSTART;TZID=America/Los_Angeles:20161026T190000
DTEND;TZID=America/Los_Angeles:20161026T200000
DTSTAMP:20260423T005128
CREATED:20161007T004110Z
LAST-MODIFIED:20161007T004110Z
UID:11179-1477508400-1477512000@uo.com
SUMMARY:Baja - October Governors Meeting
DESCRIPTION:October Governor’s Meeting\, all are welcome!
URL:https://uo.com/event/baja-october-governors-meeting/
LOCATION:Castle Blackthorn
CATEGORIES:EM Event
END:VEVENT
BEGIN:VEVENT
DTSTART;TZID=America/New_York:20161026T200000
DTEND;TZID=America/New_York:20161026T210000
DTSTAMP:20260423T005128
CREATED:20161011T220610Z
LAST-MODIFIED:20161011T220610Z
UID:11655-1477512000-1477515600@uo.com
SUMMARY:Siege Perilous - 8pm East @ EM Hall
DESCRIPTION:
URL:https://uo.com/event/siege-perilous-8pm-east-em-hall/
CATEGORIES:EM Event
END:VEVENT
END:VCALENDAR