BEGIN:VCALENDAR
VERSION:2.0
PRODID:-//Ultima Online - ECPv5.16.4.1//NONSGML v1.0//EN
CALSCALE:GREGORIAN
METHOD:PUBLISH
X-WR-CALNAME:Ultima Online
X-ORIGINAL-URL:https://uo.com
X-WR-CALDESC:Events for Ultima Online
BEGIN:VTIMEZONE
TZID:Asia/Seoul
BEGIN:STANDARD
TZOFFSETFROM:+0900
TZOFFSETTO:+0900
TZNAME:KST
DTSTART:20160101T000000
END:STANDARD
TZID:Asia/Tokyo
BEGIN:STANDARD
TZOFFSETFROM:+0900
TZOFFSETTO:+0900
TZNAME:JST
DTSTART:20160101T000000
END:STANDARD
TZID:America/Chicago
BEGIN:DAYLIGHT
TZOFFSETFROM:-0600
TZOFFSETTO:-0500
TZNAME:CDT
DTSTART:20160313T080000
END:DAYLIGHT
BEGIN:STANDARD
TZOFFSETFROM:-0500
TZOFFSETTO:-0600
TZNAME:CST
DTSTART:20161106T070000
END:STANDARD
TZID:America/New_York
BEGIN:DAYLIGHT
TZOFFSETFROM:-0500
TZOFFSETTO:-0400
TZNAME:EDT
DTSTART:20160313T070000
END:DAYLIGHT
BEGIN:STANDARD
TZOFFSETFROM:-0400
TZOFFSETTO:-0500
TZNAME:EST
DTSTART:20161106T060000
END:STANDARD
TZID:Australia/Sydney
BEGIN:STANDARD
TZOFFSETFROM:+1100
TZOFFSETTO:+1000
TZNAME:AEST
DTSTART:20160402T160000
END:STANDARD
BEGIN:DAYLIGHT
TZOFFSETFROM:+1000
TZOFFSETTO:+1100
TZNAME:AEDT
DTSTART:20161001T160000
END:DAYLIGHT
END:VTIMEZONE
BEGIN:VEVENT
DTSTART;TZID=Asia/Seoul:20161029T080000
DTEND;TZID=Asia/Seoul:20161029T210000
DTSTAMP:20260423T004947
CREATED:20161014T105447Z
LAST-MODIFIED:20161014T105447Z
UID:11681-1477728000-1477774800@uo.com
SUMMARY:Arirang - The Ego
DESCRIPTION:Story \nNow the long journey is about to end. It is now available to cool the golem\, which was malfunctioned because of heat\, by using frost wyrm’s heart. Now only thing it requires is the turn on switch! \nNotification \nDate/Time: October 29th 2016 Saturday 20:00 KST (07:00 ET)\nMeeting Place: Britain EM Hall \nCaution! \nWe’re expecting battle in this event\, please insure your precious items or leave them to your bank box. Event time is not that long so we’ll start it right in time. \nWarning \nIf you disrupt the event\, spamming\, insulting other players or EM will eventually make bad record to your account. Please pay attention to EM when he trying to speak something. \nEM will try to listen to you when he finished his speech. And be advised that there’s some things that EMs cannot help you with. If these behavior continue\, EM has no choice but to stop the event till it’s solved. \nEvent Chat Channel \nWe’re using Arirang EM Event during the event. Access here to communicate with EM and get some information from the other players as well. EM will not take any responsibility for missing any information because of this. (NO #!) \nThank you.
URL:https://uo.com/event/arirang-the-ego/
LOCATION:Arirang
CATEGORIES:EM Event
END:VEVENT
BEGIN:VEVENT
DTSTART;TZID=Asia/Tokyo:20161029T100000
DTEND;TZID=Asia/Tokyo:20161029T230000
DTSTAMP:20260423T004947
CREATED:20160922T141932Z
LAST-MODIFIED:20161028T161047Z
UID:10886-1477735200-1477782000@uo.com
SUMMARY:Hokuto-Event： Mysterious pumpkin
DESCRIPTION:The details\, please look at the Web site on Hokuto. \n 
URL:https://uo.com/event/hokuto-event/
LOCATION:Hokuto
CATEGORIES:EM Event
END:VEVENT
BEGIN:VEVENT
DTSTART;TZID=America/Chicago:20161029T190000
DTEND;TZID=America/Chicago:20161029T200000
DTSTAMP:20260423T004947
CREATED:20161004T205545Z
LAST-MODIFIED:20161004T205545Z
UID:11011-1477767600-1477771200@uo.com
SUMMARY:Lake Austin - "Halloween Story Contest" 7PM CDT
DESCRIPTION:Halloween Story Contest! Come one Come ALL!\nCome tell your Halloween Themed story around the fire! \nGates to the event will be provided at 7PM Central Time. Bring your best spooky story! Winner gets a special award in the reward hall! \n*this is a non-fighting event
URL:https://uo.com/event/lake-austin-halloween-story-contest-7pm-cdt/
CATEGORIES:EM Event
END:VEVENT
BEGIN:VEVENT
DTSTART;TZID=America/New_York:20161029T200000
DTEND;TZID=America/New_York:20161029T210000
DTSTAMP:20260423T004947
CREATED:20161001T165026Z
LAST-MODIFIED:20161001T165026Z
UID:10970-1477771200-1477774800@uo.com
SUMMARY:Legends - The Tamer's Tourney
DESCRIPTION:On Saturday\, October 29th at 8:00 PM EST\, EM Erebus will be hosting the Tamer’s Tourney at New Haven Arena. The animal for October is the Rune Beetle.
URL:https://uo.com/event/legends-the-tamers-tourney-3/
LOCATION:Legends
CATEGORIES:EM Event
END:VEVENT
BEGIN:VEVENT
DTSTART;TZID=Australia/Sydney:20161029T210000
DTEND;TZID=Australia/Sydney:20161029T220000
DTSTAMP:20260423T004947
CREATED:20161014T143520Z
LAST-MODIFIED:20161014T143534Z
UID:11683-1477774800-1477778400@uo.com
SUMMARY:Oceania  - Play with the Grim Reaper
DESCRIPTION:Meet the Grim Reaper at EM hall \, 9 PM AEDT….be ready to play…and fight!
URL:https://uo.com/event/oceania-play-with-the-grim-reaper/
CATEGORIES:EM Event
END:VEVENT
BEGIN:VEVENT
DTSTART;TZID=Asia/Tokyo:20161029T220000
DTEND;TZID=Asia/Tokyo:20161029T220000
DTSTAMP:20260423T004947
CREATED:20160921T122811Z
LAST-MODIFIED:20161022T181543Z
UID:10871-1477778400-1477778400@uo.com
SUMMARY:Wakoku - Elsa's Love and  “Crossover”
DESCRIPTION:Location:Britainnia Public Library \nPlease you complete the quest to gain entry into the Abyss!
URL:https://uo.com/event/wakoku-elsas-love-and-crossover/
LOCATION:Wakoku
CATEGORIES:EM Event
END:VEVENT
END:VCALENDAR