BEGIN:VCALENDAR
VERSION:2.0
PRODID:-//Ultima Online - ECPv5.16.4.1//NONSGML v1.0//EN
CALSCALE:GREGORIAN
METHOD:PUBLISH
X-WR-CALNAME:Ultima Online
X-ORIGINAL-URL:https://uo.com
X-WR-CALDESC:Events for Ultima Online
BEGIN:VTIMEZONE
TZID:America/Los_Angeles
BEGIN:DAYLIGHT
TZOFFSETFROM:-0800
TZOFFSETTO:-0700
TZNAME:PDT
DTSTART:20160313T100000
END:DAYLIGHT
BEGIN:STANDARD
TZOFFSETFROM:-0700
TZOFFSETTO:-0800
TZNAME:PST
DTSTART:20161106T090000
END:STANDARD
TZID:America/New_York
BEGIN:DAYLIGHT
TZOFFSETFROM:-0500
TZOFFSETTO:-0400
TZNAME:EDT
DTSTART:20160313T070000
END:DAYLIGHT
BEGIN:STANDARD
TZOFFSETFROM:-0400
TZOFFSETTO:-0500
TZNAME:EST
DTSTART:20161106T060000
END:STANDARD
TZID:Europe/Berlin
BEGIN:DAYLIGHT
TZOFFSETFROM:+0100
TZOFFSETTO:+0200
TZNAME:CEST
DTSTART:20160327T010000
END:DAYLIGHT
BEGIN:STANDARD
TZOFFSETFROM:+0200
TZOFFSETTO:+0100
TZNAME:CET
DTSTART:20161030T010000
END:STANDARD
TZID:Europe/London
BEGIN:DAYLIGHT
TZOFFSETFROM:+0000
TZOFFSETTO:+0100
TZNAME:BST
DTSTART:20160327T010000
END:DAYLIGHT
BEGIN:STANDARD
TZOFFSETFROM:+0100
TZOFFSETTO:+0000
TZNAME:GMT
DTSTART:20161030T010000
END:STANDARD
TZID:Australia/Sydney
BEGIN:STANDARD
TZOFFSETFROM:+1100
TZOFFSETTO:+1000
TZNAME:AEST
DTSTART:20160402T160000
END:STANDARD
BEGIN:DAYLIGHT
TZOFFSETFROM:+1000
TZOFFSETTO:+1100
TZNAME:AEDT
DTSTART:20161001T160000
END:DAYLIGHT
TZID:Asia/Tokyo
BEGIN:STANDARD
TZOFFSETFROM:+0900
TZOFFSETTO:+0900
TZNAME:JST
DTSTART:20160101T000000
END:STANDARD
END:VTIMEZONE
BEGIN:VEVENT
DTSTART;TZID=America/Los_Angeles:20161030T170000
DTEND;TZID=America/Los_Angeles:20161030T180000
DTSTAMP:20260423T003820
CREATED:20161010T090940Z
LAST-MODIFIED:20161010T090940Z
UID:11563-1477846800-1477850400@uo.com
SUMMARY:Napa Valley - Governor's Meeting
DESCRIPTION:
URL:https://uo.com/event/napa-valley-governors-meeting-11/
CATEGORIES:EM Event
END:VEVENT
BEGIN:VEVENT
DTSTART;TZID=America/Los_Angeles:20161030T190000
DTEND;TZID=America/Los_Angeles:20161030T200000
DTSTAMP:20260423T003820
CREATED:20161024T172707Z
LAST-MODIFIED:20161029T222017Z
UID:11725-1477854000-1477857600@uo.com
SUMMARY:Origin ~ Fuddy Wuddy's TUNNEL of TERROR!
DESCRIPTION:
URL:https://uo.com/event/origin-fuddy-wuddys-tunnel-of-terror/
LOCATION:Luna Stables (meet at)
CATEGORIES:EM Event
END:VEVENT
BEGIN:VEVENT
DTSTART;TZID=America/New_York:20161030T200000
DTEND;TZID=America/New_York:20161030T210000
DTSTAMP:20260423T003820
CREATED:20161011T220439Z
LAST-MODIFIED:20161011T220439Z
UID:11651-1477857600-1477861200@uo.com
SUMMARY:Atlantic - Conseil du Roi 8pm East @ Council Chambers
DESCRIPTION:
URL:https://uo.com/event/atlantic-conseil-du-roi-8pm-east-council-chambers/
CATEGORIES:EM Event
END:VEVENT
BEGIN:VEVENT
DTSTART;TZID=Europe/Berlin:20161030T203000
DTEND;TZID=Europe/Berlin:20161030T213000
DTSTAMP:20260423T003820
CREATED:20160929T065800Z
LAST-MODIFIED:20160929T065800Z
UID:10939-1477859400-1477863000@uo.com
SUMMARY:Drachenfels: Bountiful Harvest | Reiche Ernte
DESCRIPTION:Time: 8:30pm CET (UTC+1).  Location: Counselor’s Hall\, Britain\, Trammel.\nMain Event: Vamie Joliva should’ve actually get resources for a big feast in the castle. But what he heard of were delays and attacks on the transports! What is the problem behind all this? \nZeit: 20:30 Uhr CET (UTC+1). Ort: Counselor’s Hall\, Britain\, Trammel.\nHauptevent: Vamie Joliva sollte eigentlich Rohstoffe für ein großes Festessen im Schloss erhalten. Wovon er hörte waren aber Verspätungen und Attacken auf die Transporte! Was da wohl dahintersteckt?
URL:https://uo.com/event/bountiful-harvest-reiche-ernte/
LOCATION:Drachenfels
CATEGORIES:EM Event
END:VEVENT
BEGIN:VEVENT
DTSTART;TZID=Europe/London:20161030T203000
DTEND;TZID=Europe/London:20161030T213000
DTSTAMP:20260423T003820
CREATED:20161024T160048Z
LAST-MODIFIED:20161025T124852Z
UID:11723-1477859400-1477863000@uo.com
SUMMARY:Europa ^ The Grateful Dead!
DESCRIPTION:
URL:https://uo.com/event/europa-the-grateful-dead/
LOCATION:EM Counselor Hall (Britain)
CATEGORIES:EM Event
END:VEVENT
BEGIN:VEVENT
DTSTART;TZID=Australia/Sydney:20161030T210000
DTEND;TZID=Australia/Sydney:20161030T220000
DTSTAMP:20260423T003820
CREATED:20161014T143715Z
LAST-MODIFIED:20161014T143715Z
UID:11685-1477861200-1477864800@uo.com
SUMMARY:Oceania - Ghost Race
DESCRIPTION:Meet EM Mephisto at EM HALL! 9 PM AEDT \, who will be the fastest Ghost of Oceania?
URL:https://uo.com/event/oceania-ghost-race/
CATEGORIES:EM Event
END:VEVENT
BEGIN:VEVENT
DTSTART;TZID=Asia/Tokyo:20161030T220000
DTEND;TZID=Asia/Tokyo:20161030T220000
DTSTAMP:20260423T003820
CREATED:20160911T115704Z
LAST-MODIFIED:20160911T115704Z
UID:10793-1477864800-1477864800@uo.com
SUMMARY:Mizuho - The Council Meeting with the King
DESCRIPTION:Meet at Castle Blackthorn
URL:https://uo.com/event/mizuho-the-council-meeting-with-the-king-5/
LOCATION:Castle Blackthorn
CATEGORIES:EM Event
END:VEVENT
BEGIN:VEVENT
DTSTART;TZID=Asia/Tokyo:20161030T220000
DTEND;TZID=Asia/Tokyo:20161030T220000
DTSTAMP:20260423T003820
CREATED:20160921T123106Z
LAST-MODIFIED:20161022T182232Z
UID:10876-1477864800-1477864800@uo.com
SUMMARY:Wakoku - Mini Event + 18th Anniversary Fireworks Festival
DESCRIPTION:Location : EM Hall
URL:https://uo.com/event/wakoku-mini-event-3/
LOCATION:Wakoku
CATEGORIES:EM Event
END:VEVENT
BEGIN:VEVENT
DTSTART;TZID=Asia/Tokyo:20161030T220000
DTEND;TZID=Asia/Tokyo:20161030T220000
DTSTAMP:20260423T003820
CREATED:20160925T124640Z
LAST-MODIFIED:20160925T124640Z
UID:10905-1477864800-1477864800@uo.com
SUMMARY:Sakura - The Council Meeting With The King
DESCRIPTION:The monthly governor’s meeting with King Blackthorn.\nEveryone are invited.
URL:https://uo.com/event/sakura-the-council-meeting-with-the-king-10/
LOCATION:Castle Blackthorn
CATEGORIES:EM Event
END:VEVENT
END:VCALENDAR