BEGIN:VCALENDAR
VERSION:2.0
PRODID:-//Ultima Online - ECPv5.16.4.1//NONSGML v1.0//EN
CALSCALE:GREGORIAN
METHOD:PUBLISH
X-WR-CALNAME:Ultima Online
X-ORIGINAL-URL:https://uo.com
X-WR-CALDESC:Events for Ultima Online
BEGIN:VTIMEZONE
TZID:America/New_York
BEGIN:DAYLIGHT
TZOFFSETFROM:-0500
TZOFFSETTO:-0400
TZNAME:EDT
DTSTART:20160313T070000
END:DAYLIGHT
BEGIN:STANDARD
TZOFFSETFROM:-0400
TZOFFSETTO:-0500
TZNAME:EST
DTSTART:20161106T060000
END:STANDARD
END:VTIMEZONE
BEGIN:VEVENT
DTSTART;TZID=America/New_York:20161031T140000
DTEND;TZID=America/New_York:20161031T150000
DTSTAMP:20260422T230431
CREATED:20161011T220531Z
LAST-MODIFIED:20161011T220531Z
UID:11653-1477922400-1477926000@uo.com
SUMMARY:Atlantic - All Hallows Eve 2pm East @ Castle Blackthorn
DESCRIPTION:
URL:https://uo.com/event/atlantic-all-hallows-eve-2pm-east-castle-blackthorn/
CATEGORIES:EM Event
END:VEVENT
BEGIN:VEVENT
DTSTART;TZID=America/New_York:20161031T200000
DTEND;TZID=America/New_York:20161031T210000
DTSTAMP:20260422T230431
CREATED:20161001T165605Z
LAST-MODIFIED:20161001T165605Z
UID:10972-1477944000-1477947600@uo.com
SUMMARY:Legends - Night of the Dead
DESCRIPTION:On Monday\, October 31st at 8:00 PM EST\,  answer a druid’s call to complete an ancient ceremony. \nNote: This will be a laid-back event with some roleplay and light combat. No rewards will be distributed.
URL:https://uo.com/event/legends-night-of-the-dead/
LOCATION:Legends
CATEGORIES:EM Event
END:VEVENT
END:VCALENDAR