BEGIN:VCALENDAR
VERSION:2.0
PRODID:-//Ultima Online - ECPv5.16.4.1//NONSGML v1.0//EN
CALSCALE:GREGORIAN
METHOD:PUBLISH
X-WR-CALNAME:Ultima Online
X-ORIGINAL-URL:https://uo.com
X-WR-CALDESC:Events for Ultima Online
BEGIN:VTIMEZONE
TZID:America/Chicago
BEGIN:DAYLIGHT
TZOFFSETFROM:-0600
TZOFFSETTO:-0500
TZNAME:CDT
DTSTART:20160313T080000
END:DAYLIGHT
BEGIN:STANDARD
TZOFFSETFROM:-0500
TZOFFSETTO:-0600
TZNAME:CST
DTSTART:20161106T070000
END:STANDARD
TZID:Asia/Tokyo
BEGIN:STANDARD
TZOFFSETFROM:+0900
TZOFFSETTO:+0900
TZNAME:JST
DTSTART:20160101T000000
END:STANDARD
END:VTIMEZONE
BEGIN:VEVENT
DTSTART;TZID=America/Chicago:20161112T190000
DTEND;TZID=America/Chicago:20161112T200000
DTSTAMP:20260422T231330
CREATED:20161103T002710Z
LAST-MODIFIED:20161103T010117Z
UID:11803-1478977200-1478980800@uo.com
SUMMARY:Lake Austin - Shard Hunt
DESCRIPTION:Let’s gather at 7PM Central time at the EM Hall. Everyone bring your White Nets! Let’s have a net toss!
URL:https://uo.com/event/lake-austin-shard-hunt/
LOCATION:Lake Austin
CATEGORIES:EM Event
END:VEVENT
BEGIN:VEVENT
DTSTART;TZID=Asia/Tokyo:20161112T213000
DTEND;TZID=Asia/Tokyo:20161112T213000
DTSTAMP:20260422T231330
CREATED:20161022T182155Z
LAST-MODIFIED:20161022T182155Z
UID:11711-1478986200-1478986200@uo.com
SUMMARY:Wakoku – The Council Meeting + "That Which Is to Be Protected"
DESCRIPTION:Location : Castle Blackthorn \nMini Event “That Which Is to Be Protected”
URL:https://uo.com/event/wakoku-the-council-meeting-that-which-is-to-be-protected/
LOCATION:Wakoku
CATEGORIES:EM Event
END:VEVENT
BEGIN:VEVENT
DTSTART;TZID=Asia/Tokyo:20161112T220000
DTEND;TZID=Asia/Tokyo:20161112T220000
DTSTAMP:20260422T231330
CREATED:20161010T014939Z
LAST-MODIFIED:20161010T014939Z
UID:11545-1478988000-1478988000@uo.com
SUMMARY:Mizuho - Mini Event
DESCRIPTION:TBD
URL:https://uo.com/event/mizuho-mini-event-4/
CATEGORIES:EM Event
END:VEVENT
END:VCALENDAR