BEGIN:VCALENDAR
VERSION:2.0
PRODID:-//Ultima Online - ECPv5.16.4.1//NONSGML v1.0//EN
CALSCALE:GREGORIAN
METHOD:PUBLISH
X-WR-CALNAME:Ultima Online
X-ORIGINAL-URL:https://uo.com
X-WR-CALDESC:Events for Ultima Online
BEGIN:VTIMEZONE
TZID:America/New_York
BEGIN:DAYLIGHT
TZOFFSETFROM:-0500
TZOFFSETTO:-0400
TZNAME:EDT
DTSTART:20160313T070000
END:DAYLIGHT
BEGIN:STANDARD
TZOFFSETFROM:-0400
TZOFFSETTO:-0500
TZNAME:EST
DTSTART:20161106T060000
END:STANDARD
TZID:Europe/Berlin
BEGIN:DAYLIGHT
TZOFFSETFROM:+0100
TZOFFSETTO:+0200
TZNAME:CEST
DTSTART:20160327T010000
END:DAYLIGHT
BEGIN:STANDARD
TZOFFSETFROM:+0200
TZOFFSETTO:+0100
TZNAME:CET
DTSTART:20161030T010000
END:STANDARD
TZID:Europe/London
BEGIN:DAYLIGHT
TZOFFSETFROM:+0000
TZOFFSETTO:+0100
TZNAME:BST
DTSTART:20160327T010000
END:DAYLIGHT
BEGIN:STANDARD
TZOFFSETFROM:+0100
TZOFFSETTO:+0000
TZNAME:GMT
DTSTART:20161030T010000
END:STANDARD
TZID:Asia/Tokyo
BEGIN:STANDARD
TZOFFSETFROM:+0900
TZOFFSETTO:+0900
TZNAME:JST
DTSTART:20160101T000000
END:STANDARD
END:VTIMEZONE
BEGIN:VEVENT
DTSTART;TZID=America/New_York:20161113T200000
DTEND;TZID=America/New_York:20161113T210000
DTSTAMP:20260422T231346
CREATED:20161127T214318Z
LAST-MODIFIED:20161127T214318Z
UID:12286-1479067200-1479070800@uo.com
SUMMARY:Chessy EM Meet & Greet
DESCRIPTION:Meet at HoC for questions\, suggestions\, and concerns.
URL:https://uo.com/event/chessy-em-meet-greet-2/
LOCATION:Chesapeake
CATEGORIES:EM Event
END:VEVENT
BEGIN:VEVENT
DTSTART;TZID=Europe/Berlin:20161113T203000
DTEND;TZID=Europe/Berlin:20161113T213000
DTSTAMP:20260422T231346
CREATED:20161102T201654Z
LAST-MODIFIED:20161102T201654Z
UID:11792-1479069000-1479072600@uo.com
SUMMARY:Drachenfels: Falling Stars V | Sternschnuppen V (HoF)
DESCRIPTION:Time: 8:30pm CET (UTC+1).  Location: Castle Blackthorn Courtyard\, Britain\, Trammel.\nMain Event (RP): A HoF Mission – A bit is known about the “falling stars” and the “Ice Queen” facts… Kalya Sesha found out more about those mysterious traces in Ilshenar! (Scavenger Hunt with a twist). \nZeit: 20:30 Uhr CET (UTC+1). Ort: Schloss Blackthorn\, im Schlosshof\, Britain\, Trammel.\nMain Event (RP): Eine HoF Mission – Ein bisschen weiß man schon über die “Sternschnuppen” und die “Eis Königin”… Kalya Sesha hat mehr herausgefunden über diese mysteriösen Spuren in Ilshenar! (eine Schnitzeljagd und mehr)
URL:https://uo.com/event/drachenfels-falling-stars-v-sternschnuppen-v-hof/
LOCATION:Drachenfels
CATEGORIES:EM Event
END:VEVENT
BEGIN:VEVENT
DTSTART;TZID=Europe/London:20161113T203000
DTEND;TZID=Europe/London:20161113T203000
DTSTAMP:20260422T231346
CREATED:20161108T010257Z
LAST-MODIFIED:20161108T010257Z
UID:11908-1479069000-1479069000@uo.com
SUMMARY:Europa ^ Mix\, Mingle\, Mob
DESCRIPTION:
URL:https://uo.com/event/europa-mix-mingle-mob-3/
LOCATION:EM Counselor Hall (Britain)
CATEGORIES:EM Event
END:VEVENT
BEGIN:VEVENT
DTSTART;TZID=Asia/Tokyo:20161113T220000
DTEND;TZID=Asia/Tokyo:20161113T220000
DTSTAMP:20260422T231346
CREATED:20161024T173737Z
LAST-MODIFIED:20161024T173737Z
UID:11729-1479074400-1479074400@uo.com
SUMMARY:Asuka-Mini Event
DESCRIPTION:TBD
URL:https://uo.com/event/asuka-mini-event-6/
LOCATION:Asuka
CATEGORIES:EM Event
END:VEVENT
BEGIN:VEVENT
DTSTART;TZID=Asia/Tokyo:20161113T220000
DTEND;TZID=Asia/Tokyo:20161113T220000
DTSTAMP:20260422T231346
CREATED:20161025T124719Z
LAST-MODIFIED:20161108T144920Z
UID:11739-1479074400-1479074400@uo.com
SUMMARY:Sakura - Mini Event "Goblin's restaurant"
DESCRIPTION:fishing tournament\nTBD
URL:https://uo.com/event/sakura-mini-event-2/
LOCATION:Sakura – EM Hall\, Japan
CATEGORIES:EM Event
END:VEVENT
END:VCALENDAR