BEGIN:VCALENDAR
VERSION:2.0
PRODID:-//Ultima Online - ECPv5.16.4.1//NONSGML v1.0//EN
CALSCALE:GREGORIAN
METHOD:PUBLISH
X-WR-CALNAME:Ultima Online
X-ORIGINAL-URL:https://uo.com
X-WR-CALDESC:Events for Ultima Online
BEGIN:VTIMEZONE
TZID:America/Los_Angeles
BEGIN:DAYLIGHT
TZOFFSETFROM:-0800
TZOFFSETTO:-0700
TZNAME:PDT
DTSTART:20160313T100000
END:DAYLIGHT
BEGIN:STANDARD
TZOFFSETFROM:-0700
TZOFFSETTO:-0800
TZNAME:PST
DTSTART:20161106T090000
END:STANDARD
TZID:Asia/Tokyo
BEGIN:STANDARD
TZOFFSETFROM:+0900
TZOFFSETTO:+0900
TZNAME:JST
DTSTART:20160101T000000
END:STANDARD
END:VTIMEZONE
BEGIN:VEVENT
DTSTART;TZID=America/Los_Angeles:20161118T190000
DTEND;TZID=America/Los_Angeles:20161118T200000
DTSTAMP:20260423T005236
CREATED:20161114T040512Z
LAST-MODIFIED:20161114T040512Z
UID:12059-1479495600-1479499200@uo.com
SUMMARY:Baja - Revelations Of The Dagger
DESCRIPTION:Francis and Jayce need your help in tracking down an elusive clan of orcs\, and a mysterious artifact they may have!
URL:https://uo.com/event/baja-revelations-of-the-dagger/
LOCATION:Meet At Counselor Hall
CATEGORIES:EM Event
END:VEVENT
BEGIN:VEVENT
DTSTART;TZID=Asia/Tokyo:20161118T220000
DTEND;TZID=Asia/Tokyo:20161118T220000
DTSTAMP:20260423T005236
CREATED:20161022T181830Z
LAST-MODIFIED:20161110T150449Z
UID:11709-1479506400-1479506400@uo.com
SUMMARY:Wakoku - When You Wish Upon a Sandals
DESCRIPTION:Location: Britainnia Public Library \n  \nThis Event is my last event! \nDo come by all means!
URL:https://uo.com/event/wakoku-when-you-wish-upon-a/
LOCATION:Wakoku
CATEGORIES:EM Event
END:VEVENT
END:VCALENDAR