BEGIN:VCALENDAR
VERSION:2.0
PRODID:-//Ultima Online - ECPv5.16.4.1//NONSGML v1.0//EN
CALSCALE:GREGORIAN
METHOD:PUBLISH
X-WR-CALNAME:Ultima Online
X-ORIGINAL-URL:https://uo.com
X-WR-CALDESC:Events for Ultima Online
BEGIN:VTIMEZONE
TZID:America/Chicago
BEGIN:DAYLIGHT
TZOFFSETFROM:-0600
TZOFFSETTO:-0500
TZNAME:CDT
DTSTART:20160313T080000
END:DAYLIGHT
BEGIN:STANDARD
TZOFFSETFROM:-0500
TZOFFSETTO:-0600
TZNAME:CST
DTSTART:20161106T070000
END:STANDARD
TZID:Asia/Seoul
BEGIN:STANDARD
TZOFFSETFROM:+0900
TZOFFSETTO:+0900
TZNAME:KST
DTSTART:20160101T000000
END:STANDARD
TZID:Asia/Tokyo
BEGIN:STANDARD
TZOFFSETFROM:+0900
TZOFFSETTO:+0900
TZNAME:JST
DTSTART:20160101T000000
END:STANDARD
END:VTIMEZONE
BEGIN:VEVENT
DTSTART;TZID=America/Chicago:20161119T190000
DTEND;TZID=America/Chicago:20161119T200000
DTSTAMP:20260423T003252
CREATED:20161103T002122Z
LAST-MODIFIED:20161103T002122Z
UID:11799-1479582000-1479585600@uo.com
SUMMARY:Lake Austin - Our Former Foe
DESCRIPTION:Brave warriors and friends are called to a feast in honor of Fall Harvest.  A nice meal or a potential disaster? Harriet the Hag visits us once again. \n  \n7PM Central Time let’s meet at the EM Hall
URL:https://uo.com/event/lake-austin-our-former-foe/
LOCATION:Lake Austin
CATEGORIES:EM Event
END:VEVENT
BEGIN:VEVENT
DTSTART;TZID=Asia/Seoul:20161119T200000
DTEND;TZID=Asia/Seoul:20161119T210000
DTSTAMP:20260423T003252
CREATED:20161105T065512Z
LAST-MODIFIED:20161105T065512Z
UID:11840-1479585600-1479589200@uo.com
SUMMARY:Arirang - Cow Fight
DESCRIPTION:Notification \nDate/Time: November 26th 2016 Saturday 20:00 KST (07:00 ET)\nMeeting Place: Britain EM Hall \nCaution! \nThis event is non-reward event. Cow fight in Britannia! Tame your cow and train them to win! This tournament will be applied by following rules: \n\nCow is limited with only cows. Bull was the original plan\, but due to it requires high animal taming skill\, so this tournament is limited to cows for any participants who wants to join this event.\nTournament result will be determined by one of participant’s cow died within 5 minutes or has more higher HP than the other after match time over. In case if we cannot determine the winner\, winner will be based on cow’s status and attributes.\nAny buffs\, skills\, and benefit actions to cows are forbidden. If there’s anyone who breaks the rules will banned from tournament.\nWinner will match with another winners.\n\n3 winners’ name and cow’s name will be engraved and displayed in specially designed place in Malas EM Reward Hall. \nWarning \nIf you disrupt the event\, spamming\, insulting other players or EM will eventually make bad record to your account. Please pay attention to EM when he trying to speak something. \nEM will try to listen to you when he finished his speech. And be advised that there’s some things that EMs cannot help you with. If these behavior continue\, EM has no choice but to stop the event till it’s solved. \nEvent Chat Channel \nWe’re using Arirang EM Event during the event. Access here to communicate with EM and get some information from the other players as well. EM will not take any responsibility for missing any information because of this. (NO #!) \nThank you.
URL:https://uo.com/event/arirang-cow-fight/
LOCATION:Arirang
CATEGORIES:EM Event
END:VEVENT
BEGIN:VEVENT
DTSTART;TZID=Asia/Tokyo:20161119T220000
DTEND;TZID=Asia/Tokyo:20161119T220000
DTSTAMP:20260423T003252
CREATED:20161024T173926Z
LAST-MODIFIED:20161024T173926Z
UID:11731-1479592800-1479592800@uo.com
SUMMARY:Asuka-Event
DESCRIPTION:TBD
URL:https://uo.com/event/asuka-event-3/
LOCATION:Asuka
CATEGORIES:EM Event
END:VEVENT
END:VCALENDAR