BEGIN:VCALENDAR
VERSION:2.0
PRODID:-//Ultima Online - ECPv5.16.4.1//NONSGML v1.0//EN
CALSCALE:GREGORIAN
METHOD:PUBLISH
X-WR-CALNAME:Ultima Online
X-ORIGINAL-URL:https://uo.com
X-WR-CALDESC:Events for Ultima Online
BEGIN:VTIMEZONE
TZID:America/Los_Angeles
BEGIN:DAYLIGHT
TZOFFSETFROM:-0800
TZOFFSETTO:-0700
TZNAME:PDT
DTSTART:20160313T100000
END:DAYLIGHT
BEGIN:STANDARD
TZOFFSETFROM:-0700
TZOFFSETTO:-0800
TZNAME:PST
DTSTART:20161106T090000
END:STANDARD
TZID:Asia/Tokyo
BEGIN:STANDARD
TZOFFSETFROM:+0900
TZOFFSETTO:+0900
TZNAME:JST
DTSTART:20160101T000000
END:STANDARD
TZID:America/New_York
BEGIN:DAYLIGHT
TZOFFSETFROM:-0500
TZOFFSETTO:-0400
TZNAME:EDT
DTSTART:20160313T070000
END:DAYLIGHT
BEGIN:STANDARD
TZOFFSETFROM:-0400
TZOFFSETTO:-0500
TZNAME:EST
DTSTART:20161106T060000
END:STANDARD
END:VTIMEZONE
BEGIN:VEVENT
DTSTART;TZID=America/Los_Angeles:20161125T190000
DTEND;TZID=America/Los_Angeles:20161125T200000
DTSTAMP:20260422T231330
CREATED:20161115T013539Z
LAST-MODIFIED:20161115T013539Z
UID:12133-1480100400-1480104000@uo.com
SUMMARY:Origin ~ Have Gear Will Travel #17: Guard gone Missing! *FELUCCA*
DESCRIPTION:
URL:https://uo.com/event/origin-have-gear-will-travel-17-guard-gone-missing-felucca/
CATEGORIES:EM Event
END:VEVENT
BEGIN:VEVENT
DTSTART;TZID=Asia/Tokyo:20161125T220000
DTEND;TZID=Asia/Tokyo:20161125T220000
DTSTAMP:20260422T231330
CREATED:20161010T020012Z
LAST-MODIFIED:20161010T020012Z
UID:11555-1480111200-1480111200@uo.com
SUMMARY:Mizuho -  The Disaster in the Britannian Sea
DESCRIPTION:TBD
URL:https://uo.com/event/mizuho-the-disaster-in-the-britannian-sea/
LOCATION:TBD
CATEGORIES:EM Event
END:VEVENT
BEGIN:VEVENT
DTSTART;TZID=America/New_York:20161125T220000
DTEND;TZID=America/New_York:20161125T230000
DTSTAMP:20260422T231330
CREATED:20161120T075003Z
LAST-MODIFIED:20161120T075412Z
UID:12227-1480111200-1480114800@uo.com
SUMMARY:Sonoma - EM Event - Turkey Pardon
DESCRIPTION:Please join us in Serpent’s Hold for a Thanksgiving-style event.  This is intended to be a community focused event\, will be playful\, and in addition to fighting some seriously agro turkeys\, we will be touring some of the less frequented monuments throughout Britannia.  Afterwords\, we can sit down at the long table near the reward hall in Malas for a group meal. \nLet’s plan to meet at 7pm PST (10pm EST).  Hope to see you there!
URL:https://uo.com/event/em-event-turkey-pardon/
LOCATION:Serpent’s Hold
CATEGORIES:EM Event
END:VEVENT
END:VCALENDAR