BEGIN:VCALENDAR
VERSION:2.0
PRODID:-//Ultima Online - ECPv5.16.4.1//NONSGML v1.0//EN
CALSCALE:GREGORIAN
METHOD:PUBLISH
X-WR-CALNAME:Ultima Online
X-ORIGINAL-URL:https://uo.com
X-WR-CALDESC:Events for Ultima Online
BEGIN:VTIMEZONE
TZID:America/Los_Angeles
BEGIN:DAYLIGHT
TZOFFSETFROM:-0800
TZOFFSETTO:-0700
TZNAME:PDT
DTSTART:20160313T100000
END:DAYLIGHT
BEGIN:STANDARD
TZOFFSETFROM:-0700
TZOFFSETTO:-0800
TZNAME:PST
DTSTART:20161106T090000
END:STANDARD
TZID:America/New_York
BEGIN:DAYLIGHT
TZOFFSETFROM:-0500
TZOFFSETTO:-0400
TZNAME:EDT
DTSTART:20160313T070000
END:DAYLIGHT
BEGIN:STANDARD
TZOFFSETFROM:-0400
TZOFFSETTO:-0500
TZNAME:EST
DTSTART:20161106T060000
END:STANDARD
END:VTIMEZONE
BEGIN:VEVENT
DTSTART;TZID=America/Los_Angeles:20161130T190000
DTEND;TZID=America/Los_Angeles:20161130T200000
DTSTAMP:20260422T213504
CREATED:20161126T033456Z
LAST-MODIFIED:20161126T033456Z
UID:12275-1480532400-1480536000@uo.com
SUMMARY:Baja - Gypsy's Fortune
DESCRIPTION:The city of Minoc is under attack by orcish hordes! Richardson the Guard requests your help!
URL:https://uo.com/event/baja-gypsys-fortune/
LOCATION:Meet At Counselor Hall
CATEGORIES:EM Event
END:VEVENT
BEGIN:VEVENT
DTSTART;TZID=America/New_York:20161130T200000
DTEND;TZID=America/New_York:20161130T210000
DTSTAMP:20260422T213504
CREATED:20161127T215218Z
LAST-MODIFIED:20161127T215218Z
UID:12294-1480536000-1480539600@uo.com
SUMMARY:Chessy Surprise Surprise (On the Mend part 2)
DESCRIPTION:This will flow as the last one left off.  (recap) Meg is still on the mend at the Trinsic Hospital\, but Hugh the Hand is still trying to find her\, and what she has…
URL:https://uo.com/event/chessy-surprise-surprise-on-the-mend-part-2/
LOCATION:Chesapeake
CATEGORIES:EM Event
END:VEVENT
BEGIN:VEVENT
DTSTART;TZID=America/New_York:20161130T220000
DTEND;TZID=America/New_York:20161130T230000
DTSTAMP:20260422T213504
CREATED:20161120T080320Z
LAST-MODIFIED:20161120T080320Z
UID:12234-1480543200-1480546800@uo.com
SUMMARY:Sonoma - EM Event - Alchemical Energy
DESCRIPTION:Tomas\, the alchemist\, has created a rift that’s caused four creatures in the form of alchemical energy to appear around Britannia.  Citizens are called to arms in Serpent’s Hold on Wednesday\, November 30th at 7pm PST (10pm EST) to contain these forces before they spread across the lands.
URL:https://uo.com/event/sonoma-em-event-alchemical-energy/
LOCATION:Serpent’s Hold
CATEGORIES:EM Event
END:VEVENT
BEGIN:VEVENT
DTSTART;TZID=America/New_York:20161130T230000
DTEND;TZID=America/New_York:20161130T230000
DTSTAMP:20260422T213504
CREATED:20161120T075927Z
LAST-MODIFIED:20161120T075927Z
UID:12231-1480546800-1480546800@uo.com
SUMMARY:Sonoma - Fishing Contest Deadline
DESCRIPTION:Please turn in your largest Fire Fish to the reward hall in Malas by midnight on November 30th.  The winner will receive a plaque in the reward hall and gets to pick the fish for December’s contest!
URL:https://uo.com/event/sonoma-fishing-contest-deadline/
LOCATION:Reward Hall
CATEGORIES:EM Event
END:VEVENT
END:VCALENDAR